BEGIN:VCALENDAR
VERSION:2.0
PRODID:-//New York State Network for Youth Success - ECPv6.15.11//NONSGML v1.0//EN
CALSCALE:GREGORIAN
METHOD:PUBLISH
X-ORIGINAL-URL:https://networkforyouthsuccess.org
X-WR-CALDESC:Events for New York State Network for Youth Success
REFRESH-INTERVAL;VALUE=DURATION:PT1H
X-Robots-Tag:noindex
X-PUBLISHED-TTL:PT1H
BEGIN:VTIMEZONE
TZID:America/New_York
BEGIN:DAYLIGHT
TZOFFSETFROM:-0500
TZOFFSETTO:-0400
TZNAME:EDT
DTSTART:20230312T070000
END:DAYLIGHT
BEGIN:STANDARD
TZOFFSETFROM:-0400
TZOFFSETTO:-0500
TZNAME:EST
DTSTART:20231105T060000
END:STANDARD
BEGIN:DAYLIGHT
TZOFFSETFROM:-0500
TZOFFSETTO:-0400
TZNAME:EDT
DTSTART:20240310T070000
END:DAYLIGHT
BEGIN:STANDARD
TZOFFSETFROM:-0400
TZOFFSETTO:-0500
TZNAME:EST
DTSTART:20241103T060000
END:STANDARD
BEGIN:DAYLIGHT
TZOFFSETFROM:-0500
TZOFFSETTO:-0400
TZNAME:EDT
DTSTART:20250309T070000
END:DAYLIGHT
BEGIN:STANDARD
TZOFFSETFROM:-0400
TZOFFSETTO:-0500
TZNAME:EST
DTSTART:20251102T060000
END:STANDARD
END:VTIMEZONE
BEGIN:VEVENT
DTSTART;TZID=America/New_York:20240911T183000
DTEND;TZID=America/New_York:20240911T213000
DTSTAMP:20260419T170235
CREATED:20240604T140602Z
LAST-MODIFIED:20240802T152902Z
UID:31387-1726079400-1726090200@networkforyouthsuccess.org
SUMMARY:Health and Safety for Directors
DESCRIPTION:Health and Safety for SAC Directors \nDirectors are responsible for hiring\, training\, and maintaining staff who provide a healthy\nand safe environment for children. This course will help directors look at policies and\nprocedures that reinforce high-quality health and safety practices. Directors will get the\nmost out of this training if they bring a copy of the policies and procedures from their\nprogram. \n\n\n\n\n\n\nNext Courses:\n\n\n\n\n\nSeptember 2024  \nWednesday\, September 11\nThursday\, September 12\nWednesday\, September 18\nThursday\, September 19\nWednesday\, September 25\nThursday\, September 26 \nTime: 6:30pm-9:30pm \nThis is a six day course.  You must attend all sessions. \nInstructor: Diane Shirley \nCost $325.00 \n\nTo register for this course follow the two part registration. \nTwo Part Registration\n1. Begin Your Registration Here\n2. Make Your Payment Here\n*You must be accepted to take the course and make your payment to enroll in the course. Registration is on a first come\, first served basis. 
URL:https://networkforyouthsuccess.org/events/health-and-safety-for-directors/
CATEGORIES:SACC Trainings
END:VEVENT
END:VCALENDAR