BEGIN:VCALENDAR
VERSION:2.0
PRODID:-//New York State Network for Youth Success - ECPv6.15.11//NONSGML v1.0//EN
CALSCALE:GREGORIAN
METHOD:PUBLISH
X-ORIGINAL-URL:https://networkforyouthsuccess.org
X-WR-CALDESC:Events for New York State Network for Youth Success
REFRESH-INTERVAL;VALUE=DURATION:PT1H
X-Robots-Tag:noindex
X-PUBLISHED-TTL:PT1H
BEGIN:VTIMEZONE
TZID:America/New_York
BEGIN:DAYLIGHT
TZOFFSETFROM:-0500
TZOFFSETTO:-0400
TZNAME:EDT
DTSTART:20210314T070000
END:DAYLIGHT
BEGIN:STANDARD
TZOFFSETFROM:-0400
TZOFFSETTO:-0500
TZNAME:EST
DTSTART:20211107T060000
END:STANDARD
BEGIN:DAYLIGHT
TZOFFSETFROM:-0500
TZOFFSETTO:-0400
TZNAME:EDT
DTSTART:20220313T070000
END:DAYLIGHT
BEGIN:STANDARD
TZOFFSETFROM:-0400
TZOFFSETTO:-0500
TZNAME:EST
DTSTART:20221106T060000
END:STANDARD
BEGIN:DAYLIGHT
TZOFFSETFROM:-0500
TZOFFSETTO:-0400
TZNAME:EDT
DTSTART:20230312T070000
END:DAYLIGHT
BEGIN:STANDARD
TZOFFSETFROM:-0400
TZOFFSETTO:-0500
TZNAME:EST
DTSTART:20231105T060000
END:STANDARD
END:VTIMEZONE
BEGIN:VEVENT
DTSTART;TZID=America/New_York:20221101T120000
DTEND;TZID=America/New_York:20221101T130000
DTSTAMP:20260420T230247
CREATED:20220926T155331Z
LAST-MODIFIED:20220926T155352Z
UID:19647-1667304000-1667307600@networkforyouthsuccess.org
SUMMARY:Native American Cultural Competency
DESCRIPTION:This presentations will brief overviews of Native cultures\, health challenges facing many communities\, and historical traumas.  Emerging strategies to engage with Native American peoples more respectfully\, and efforts to restore community wellbeing will also be discussed.
URL:https://networkforyouthsuccess.org/events/native-american-cultural-competency/
CATEGORIES:JEDI Training Series
END:VEVENT
BEGIN:VEVENT
DTSTART;TZID=America/New_York:20221102T103000
DTEND;TZID=America/New_York:20221102T113000
DTSTAMP:20260420T230247
CREATED:20220705T183049Z
LAST-MODIFIED:20220705T183049Z
UID:17832-1667385000-1667388600@networkforyouthsuccess.org
SUMMARY:New Laws and New Talent: Attracting & Retaining LGBTQIA Employees
DESCRIPTION:Do you know the new NYS laws pertaining to trans and gender-nonconforming people in the workplace? Wondering how to be an attractive employer to LGBTQIA talent? Designed for HR and leadership\, this session provides workplace policies and practices for creating affirming environments for current and future LGBTQIA staff\, while reviewing laws that many employers in NYS are unaware of. Prerequisite: LGBTQIA 101.
URL:https://networkforyouthsuccess.org/events/new-laws-and-new-talent-attracting-retaining-lgbtqia-employees/
CATEGORIES:JEDI Training Series
END:VEVENT
BEGIN:VEVENT
DTSTART;TZID=America/New_York:20221107T180000
DTEND;TZID=America/New_York:20221107T190000
DTSTAMP:20260420T230247
CREATED:20220705T183253Z
LAST-MODIFIED:20220705T183253Z
UID:17839-1667844000-1667847600@networkforyouthsuccess.org
SUMMARY:New Laws and New Talent: Attracting & Retaining LGBTQIA Employees
DESCRIPTION:Do you know the new NYS laws pertaining to trans and gender-nonconforming people in the workplace? Wondering how to be an attractive employer to LGBTQIA talent? Designed for HR and leadership\, this session provides workplace policies and practices for creating affirming environments for current and future LGBTQIA staff\, while reviewing laws that many employers in NYS are unaware of. Prerequisite: LGBTQIA 101.
URL:https://networkforyouthsuccess.org/events/new-laws-and-new-talent-attracting-retaining-lgbtqia-employees-2/
CATEGORIES:JEDI Training Series
END:VEVENT
BEGIN:VEVENT
DTSTART;TZID=America/New_York:20221118T120000
DTEND;TZID=America/New_York:20221118T130000
DTSTAMP:20260420T230247
CREATED:20220705T183450Z
LAST-MODIFIED:20221115T191728Z
UID:17841-1668772800-1668776400@networkforyouthsuccess.org
SUMMARY:Getting Gender Right: Role Modeling Support of Gender Diversity & Individuality
DESCRIPTION:Many childcare workers want children to grow in environments free from gender stereotypes and restrictions\, yet often end up subconsciously reinforcing society’s messaging. From a young age\, we have an opportunity to shift our language and behavior to improve mental health and stronger connections with children. Learn tools for reducing the pressures experienced by children of all genders! Prerequisite: LGBTQIA 101.
URL:https://networkforyouthsuccess.org/events/getting-gender-right-role-modeling-support-of-gender-diversity-individuality/
CATEGORIES:JEDI Training Series
END:VEVENT
BEGIN:VEVENT
DTSTART;TZID=America/New_York:20221121T120000
DTEND;TZID=America/New_York:20221121T130000
DTSTAMP:20260420T230247
CREATED:20220705T183559Z
LAST-MODIFIED:20220705T183559Z
UID:17843-1669032000-1669035600@networkforyouthsuccess.org
SUMMARY:Getting Gender Right: Role Modeling Support of Gender Diversity & Individuality
DESCRIPTION:Many childcare workers want children to grow in environments free from gender stereotypes and restrictions\, yet often end up subconsciously reinforcing society’s messaging. From a young age\, we have an opportunity to shift our language and behavior to improve mental health and stronger connections with children. Learn tools for reducing the pressures experienced by children of all genders! Prerequisite: LGBTQIA 101.
URL:https://networkforyouthsuccess.org/events/getting-gender-right-role-modeling-support-of-gender-diversity-individuality-2/
CATEGORIES:JEDI Training Series
END:VEVENT
BEGIN:VEVENT
DTSTART;TZID=America/New_York:20221129T093000
DTEND;TZID=America/New_York:20221129T123000
DTSTAMP:20260420T230247
CREATED:20220805T150204Z
LAST-MODIFIED:20220805T154528Z
UID:18670-1669714200-1669725000@networkforyouthsuccess.org
SUMMARY:Site Leader Institute for Fall 2022
DESCRIPTION:Are you a new site-level manager? Are you starting an afterschool program with a new grant? The Site Leader Institute can help you grow into your new role. Visit our Site Leader Institute webpage for more details and to register.
URL:https://networkforyouthsuccess.org/events/site-leader-institute-for-fall-2022/
LOCATION:Virtual
END:VEVENT
END:VCALENDAR