BEGIN:VCALENDAR
VERSION:2.0
PRODID:-//New York State Network for Youth Success - ECPv6.15.11//NONSGML v1.0//EN
CALSCALE:GREGORIAN
METHOD:PUBLISH
X-WR-CALNAME:New York State Network for Youth Success
X-ORIGINAL-URL:https://networkforyouthsuccess.org
X-WR-CALDESC:Events for New York State Network for Youth Success
REFRESH-INTERVAL;VALUE=DURATION:PT1H
X-Robots-Tag:noindex
X-PUBLISHED-TTL:PT1H
BEGIN:VTIMEZONE
TZID:America/New_York
BEGIN:DAYLIGHT
TZOFFSETFROM:-0500
TZOFFSETTO:-0400
TZNAME:EDT
DTSTART:20210314T070000
END:DAYLIGHT
BEGIN:STANDARD
TZOFFSETFROM:-0400
TZOFFSETTO:-0500
TZNAME:EST
DTSTART:20211107T060000
END:STANDARD
BEGIN:DAYLIGHT
TZOFFSETFROM:-0500
TZOFFSETTO:-0400
TZNAME:EDT
DTSTART:20220313T070000
END:DAYLIGHT
BEGIN:STANDARD
TZOFFSETFROM:-0400
TZOFFSETTO:-0500
TZNAME:EST
DTSTART:20221106T060000
END:STANDARD
BEGIN:DAYLIGHT
TZOFFSETFROM:-0500
TZOFFSETTO:-0400
TZNAME:EDT
DTSTART:20230312T070000
END:DAYLIGHT
BEGIN:STANDARD
TZOFFSETFROM:-0400
TZOFFSETTO:-0500
TZNAME:EST
DTSTART:20231105T060000
END:STANDARD
END:VTIMEZONE
BEGIN:VEVENT
DTSTART;TZID=America/New_York:20220606T100000
DTEND;TZID=America/New_York:20220606T113000
DTSTAMP:20260421T095346
CREATED:20220510T154454Z
LAST-MODIFIED:20220510T154609Z
UID:15852-1654509600-1654515000@networkforyouthsuccess.org
SUMMARY:Preparing for STEAM Learning Opportunities
DESCRIPTION:What does science and engineering look like in an informal learning environment? How do we do STEAM activities in afterschool? Learn the elements of quality STEAM learning and set yourself and your children up for success! Join TTAP-credentialed trainer Natalie Scavone for this engaging no-cost session. This workshop will explore the keys to authentic STEAM learning opportunities that incorporate positive youth development practices. \nThis session will count for OCFS training hours (OCFS 3\, CBK 4\, SAC 7 & 10). \nClick here to register. This session is provided at no cost thanks to the Million Girls Moonshot.
URL:https://networkforyouthsuccess.org/events/preparing-for-steam-learning-opportunities/
LOCATION:Zoom
CATEGORIES:Professional Development
END:VEVENT
BEGIN:VEVENT
DTSTART;TZID=America/New_York:20220614T100000
DTEND;TZID=America/New_York:20220614T120000
DTSTAMP:20260421T095346
CREATED:20220317T170110Z
LAST-MODIFIED:20220504T140154Z
UID:14623-1655200800-1655208000@networkforyouthsuccess.org
SUMMARY:Discover SCIENCE with Dr. Bear Round 3
DESCRIPTION:Learn fun activities to engage K-5th grade youth in science! Round 3 of Discover SCIENCE with Dr. Bear features art\, science\, and hands-on learning for elementary-aged children. Join the Network for Youth Success and trainer Maryann Stimmer of FHI360 for a workshop on Dr. Bear\, where afterschool professionals and other informal educators can learn the activities and bring them back to their programs. No prior experience with Dr. Bear is required to attend. \nProfessionals who successfully complete the workshop will be eligible to earn a gift card\, pending participation in pre-and post-workshop surveys with the curriculum evaluation\, Knowlogy. \nWhat: Discover Science with Dr. Bear\, curriculum workshop for informal educators \nWhen: Tuesday\, June 14th from 10 AM to Noon \nWhere: Virtual on Zoom \nRegister for this virtual event here. \nWho: Any professional working with elementary age children in afterschool\, summer\, expanded learning\, or other informal settings such as libraries. \nNote: this session will not count for OCFS mandated training hours.
URL:https://networkforyouthsuccess.org/events/discover-science-with-dr-bear-round-2/
LOCATION:Zoom
END:VEVENT
BEGIN:VEVENT
DTSTART;TZID=America/New_York:20220616T110000
DTEND;TZID=America/New_York:20220616T123000
DTSTAMP:20260421T095346
CREATED:20220608T161818Z
LAST-MODIFIED:20220609T203330Z
UID:16876-1655377200-1655382600@networkforyouthsuccess.org
SUMMARY:Bias: A Human Condition
DESCRIPTION:This highly interactive training opportunity will challenge participants to reframe their understanding of bias and provides practical definitions for diversity\, equity\, and inclusion terms. Real-life examples and relevant research will be discussed to assist participants in identifying bias within various everyday and work-related contexts. (Prerequisite for Bias Blocks.) \n 
URL:https://networkforyouthsuccess.org/events/bias-a-human-condition/
ATTACH;FMTTYPE=image/jpeg:https://networkforyouthsuccess.org/wp-content/uploads/2022/06/JEDI-training-image-1.jpg
END:VEVENT
BEGIN:VEVENT
DTSTART;TZID=America/New_York:20220623T110000
DTEND;TZID=America/New_York:20220623T123000
DTSTAMP:20260421T095346
CREATED:20220608T162114Z
LAST-MODIFIED:20220609T203244Z
UID:16878-1655982000-1655987400@networkforyouthsuccess.org
SUMMARY:Bias Blocks: Practical Tools for Equitable Outcomes
DESCRIPTION:Participants will continue to explore the effects of bias while focusing on solutions for reducing bias at the personal and institutional levels. They will be introduced to evidence-based strategies that interrupt biased thinking\, reflective prompts for sustainable bias mitigation\, and assessment considerations for equitable outcomes. Tools and resource lists will be provided to assist participants in developing action plans for change.
URL:https://networkforyouthsuccess.org/events/bias-blocks-practical-tools-for-equitable-outcomes/
ATTACH;FMTTYPE=image/jpeg:https://networkforyouthsuccess.org/wp-content/uploads/2022/06/JEDI-training-image-1.jpg
END:VEVENT
END:VCALENDAR