BEGIN:VCALENDAR
VERSION:2.0
PRODID:-//New York State Network for Youth Success - ECPv6.15.11//NONSGML v1.0//EN
CALSCALE:GREGORIAN
METHOD:PUBLISH
X-ORIGINAL-URL:https://networkforyouthsuccess.org
X-WR-CALDESC:Events for New York State Network for Youth Success
REFRESH-INTERVAL;VALUE=DURATION:PT1H
X-Robots-Tag:noindex
X-PUBLISHED-TTL:PT1H
BEGIN:VTIMEZONE
TZID:America/New_York
BEGIN:DAYLIGHT
TZOFFSETFROM:-0500
TZOFFSETTO:-0400
TZNAME:EDT
DTSTART:20210314T070000
END:DAYLIGHT
BEGIN:STANDARD
TZOFFSETFROM:-0400
TZOFFSETTO:-0500
TZNAME:EST
DTSTART:20211107T060000
END:STANDARD
BEGIN:DAYLIGHT
TZOFFSETFROM:-0500
TZOFFSETTO:-0400
TZNAME:EDT
DTSTART:20220313T070000
END:DAYLIGHT
BEGIN:STANDARD
TZOFFSETFROM:-0400
TZOFFSETTO:-0500
TZNAME:EST
DTSTART:20221106T060000
END:STANDARD
BEGIN:DAYLIGHT
TZOFFSETFROM:-0500
TZOFFSETTO:-0400
TZNAME:EDT
DTSTART:20230312T070000
END:DAYLIGHT
BEGIN:STANDARD
TZOFFSETFROM:-0400
TZOFFSETTO:-0500
TZNAME:EST
DTSTART:20231105T060000
END:STANDARD
END:VTIMEZONE
BEGIN:VEVENT
DTSTART;TZID=America/New_York:20220302T183000
DTEND;TZID=America/New_York:20220302T183000
DTSTAMP:20260421T170627
CREATED:20220126T175407Z
LAST-MODIFIED:20220126T175523Z
UID:13560-1646245800-1646245800@networkforyouthsuccess.org
SUMMARY:Health and Safety
DESCRIPTION:Health and Safety for SAC Directors \nDirectors are responsible for hiring\, training\, and maintaining staff who provide a healthy\nand safe environment for children. This course will help directors look at policies and\nprocedures that reinforce high-quality health and safety practices. Directors will get the\nmost out of this training if they bring a copy of the policies and procedures from their\nprogram. \nNext course offered: \nWednesday\, March 2\nThursday\, March 3\nWednesday\, March 9\nThursday\, March 10\nTuesday\, March 15\nWednesday\, March 16 \nTime: 6:30-9:30pm \nThis is a six day course.  You must attend all sessions.  \nThis is a virtual event.
URL:https://networkforyouthsuccess.org/events/health-and-safety/
END:VEVENT
BEGIN:VEVENT
DTSTART;TZID=America/New_York:20220315T120000
DTEND;TZID=America/New_York:20220315T130000
DTSTAMP:20260421T170627
CREATED:20220224T182430Z
LAST-MODIFIED:20220224T182430Z
UID:14188-1647345600-1647349200@networkforyouthsuccess.org
SUMMARY:Rural Forum & Discussion
DESCRIPTION:Wayne MOST\, a regional network\, launched with the support of the NYS Network for Youth Success\, connects programs from all across Wayne County. Wayne MOST helps programs work together to provide opportunities from ski lessons to family movies and activity days. Join the regional network for this upcoming forum and discussion on Tuesday\, March 15 from 12:00 PM – 1:00 PM.\n\nPanelists will share about the launch of the regional network\, afterschool programs linked to 21st Century Community Learning Centers\, and local summer programming generated through partnerships with schools\, businesses\, and parents. Local data will be shared that highlights the importance of out-of-school-time programs to meeting the needs of youth and families.\n\nWe will also have time for a Q&A session to hear direclty from our participants.\n\n\n\nNote: You must register in advance in order to attend.\n\nPanelists:\n\n\nJune Muto\nWayne MOST Regional Network Lead\n\nJosh Arnold\nCommunity Schools Coordinator- Newark\n\nErin Church\n21st CCLC Program Director & Community Schools Coordinator Clyde-Sav\n\nNate Hawver\nProgram Specialist\, FLX Community Schools
URL:https://networkforyouthsuccess.org/events/rural-forum-discussion/
LOCATION:Zoom
END:VEVENT
END:VCALENDAR