BEGIN:VCALENDAR
VERSION:2.0
PRODID:-//New York State Network for Youth Success - ECPv6.15.11//NONSGML v1.0//EN
CALSCALE:GREGORIAN
METHOD:PUBLISH
X-ORIGINAL-URL:https://networkforyouthsuccess.org
X-WR-CALDESC:Events for New York State Network for Youth Success
REFRESH-INTERVAL;VALUE=DURATION:PT1H
X-Robots-Tag:noindex
X-PUBLISHED-TTL:PT1H
BEGIN:VTIMEZONE
TZID:America/New_York
BEGIN:DAYLIGHT
TZOFFSETFROM:-0500
TZOFFSETTO:-0400
TZNAME:EDT
DTSTART:20210314T070000
END:DAYLIGHT
BEGIN:STANDARD
TZOFFSETFROM:-0400
TZOFFSETTO:-0500
TZNAME:EST
DTSTART:20211107T060000
END:STANDARD
BEGIN:DAYLIGHT
TZOFFSETFROM:-0500
TZOFFSETTO:-0400
TZNAME:EDT
DTSTART:20220313T070000
END:DAYLIGHT
BEGIN:STANDARD
TZOFFSETFROM:-0400
TZOFFSETTO:-0500
TZNAME:EST
DTSTART:20221106T060000
END:STANDARD
BEGIN:DAYLIGHT
TZOFFSETFROM:-0500
TZOFFSETTO:-0400
TZNAME:EDT
DTSTART:20230312T070000
END:DAYLIGHT
BEGIN:STANDARD
TZOFFSETFROM:-0400
TZOFFSETTO:-0500
TZNAME:EST
DTSTART:20231105T060000
END:STANDARD
END:VTIMEZONE
BEGIN:VEVENT
DTSTART;TZID=America/New_York:20220201T080000
DTEND;TZID=America/New_York:20220204T170000
DTSTAMP:20260421T210013
CREATED:20220113T172448Z
LAST-MODIFIED:20220113T172448Z
UID:13333-1643702400-1643994000@networkforyouthsuccess.org
SUMMARY:2022 Afterschool Advocacy Week
DESCRIPTION:In lieu of our in-person advocacy day\, we are holding a series of virtual events over the week to advocate for the need for investments in afterschool.\n\nAfterschool Rising: Virtual Showcase (Tuesday\, February 1\, 5-6:30 pm ET): Participants\, families\, and other afterschool stakeholders will share the critical impact of afterschool.\n\n\nAfterschool Call-In/Email (Wednesday\, February 2\, 11-12 pm ET): Supporters of afterschool will reach out to representatives about the importance of afterschool\, summer\, and expanded learning opportunities and increase the visibility of advocacy efforts.\n\n\nAfterschool Tweetstorm (Thursday\, February 3\, 11-12 pm ET): Supporters of afterschool will reach out to legislators via Twitter.\n\n\nAfterschool Legislative Meetings (Tuesday-Friday\, February 1-4\, 2022): Supporters will attend meetings with legislative officers to express the importance of supporting and funding afterschool programs.\n\nWe will share more information with you as it comes. In the meantime\, you can register for Afterschool Advocacy Week 2022 to receive direct updates. Registration closes on January 19\, 2022.
URL:https://networkforyouthsuccess.org/events/2022-afterschool-advocacy-week/
END:VEVENT
END:VCALENDAR