BEGIN:VCALENDAR
VERSION:2.0
PRODID:-//New York State Network for Youth Success - ECPv6.15.11//NONSGML v1.0//EN
CALSCALE:GREGORIAN
METHOD:PUBLISH
X-ORIGINAL-URL:https://networkforyouthsuccess.org
X-WR-CALDESC:Events for New York State Network for Youth Success
REFRESH-INTERVAL;VALUE=DURATION:PT1H
X-Robots-Tag:noindex
X-PUBLISHED-TTL:PT1H
BEGIN:VTIMEZONE
TZID:America/New_York
BEGIN:DAYLIGHT
TZOFFSETFROM:-0500
TZOFFSETTO:-0400
TZNAME:EDT
DTSTART:20250309T070000
END:DAYLIGHT
BEGIN:STANDARD
TZOFFSETFROM:-0400
TZOFFSETTO:-0500
TZNAME:EST
DTSTART:20251102T060000
END:STANDARD
BEGIN:DAYLIGHT
TZOFFSETFROM:-0500
TZOFFSETTO:-0400
TZNAME:EDT
DTSTART:20260308T070000
END:DAYLIGHT
BEGIN:STANDARD
TZOFFSETFROM:-0400
TZOFFSETTO:-0500
TZNAME:EST
DTSTART:20261101T060000
END:STANDARD
BEGIN:DAYLIGHT
TZOFFSETFROM:-0500
TZOFFSETTO:-0400
TZNAME:EDT
DTSTART:20270314T070000
END:DAYLIGHT
BEGIN:STANDARD
TZOFFSETFROM:-0400
TZOFFSETTO:-0500
TZNAME:EST
DTSTART:20271107T060000
END:STANDARD
END:VTIMEZONE
BEGIN:VEVENT
DTSTART;VALUE=DATE:20260824
DTEND;VALUE=DATE:20261215
DTSTAMP:20260419T213351
CREATED:20260212T121701Z
LAST-MODIFIED:20260212T123416Z
UID:36667-1787529600-1797292799@networkforyouthsuccess.org
SUMMARY:Fall 2026 Part 1 DL SAC Credential Course (Asynchronous)
DESCRIPTION:PART 1 (Skill Areas 8-14)\nAugust 24\, 2026 – December 14\, 2026\nInstructor: Carla Stough Huffman\n\nSeeking a path to fulfill the educational prerequisites for a site director role in a school-age program?\nInterested in expanding your skill set and preparing for leadership opportunities?\nExplore our SAC Credential Courses—a perfect fit for your goals!\n\n\nCost\n$1325.00 per semester ($1\,125.00 + $200 deposit fee). Individuals must take both semesters (Part 1 and Part 2).\n\nCourse Policies\, Syllabus\, and Full Calendar\n\n\nRegister Here: https://app.etapestry.com/onlineforms/NewYorkStateNetworkforYou/DLRegistration.html
URL:https://networkforyouthsuccess.org/events/fall-2026-part-2-dl-sac-credential-course-asynchronous/
LOCATION:Virtual
CATEGORIES:SACC Trainings
END:VEVENT
END:VCALENDAR