BEGIN:VCALENDAR
VERSION:2.0
PRODID:-//New York State Network for Youth Success - ECPv6.15.11//NONSGML v1.0//EN
CALSCALE:GREGORIAN
METHOD:PUBLISH
X-WR-CALNAME:New York State Network for Youth Success
X-ORIGINAL-URL:https://networkforyouthsuccess.org
X-WR-CALDESC:Events for New York State Network for Youth Success
REFRESH-INTERVAL;VALUE=DURATION:PT1H
X-Robots-Tag:noindex
X-PUBLISHED-TTL:PT1H
BEGIN:VTIMEZONE
TZID:America/New_York
BEGIN:DAYLIGHT
TZOFFSETFROM:-0500
TZOFFSETTO:-0400
TZNAME:EDT
DTSTART:20250309T070000
END:DAYLIGHT
BEGIN:STANDARD
TZOFFSETFROM:-0400
TZOFFSETTO:-0500
TZNAME:EST
DTSTART:20251102T060000
END:STANDARD
BEGIN:DAYLIGHT
TZOFFSETFROM:-0500
TZOFFSETTO:-0400
TZNAME:EDT
DTSTART:20260308T070000
END:DAYLIGHT
BEGIN:STANDARD
TZOFFSETFROM:-0400
TZOFFSETTO:-0500
TZNAME:EST
DTSTART:20261101T060000
END:STANDARD
BEGIN:DAYLIGHT
TZOFFSETFROM:-0500
TZOFFSETTO:-0400
TZNAME:EDT
DTSTART:20270314T070000
END:DAYLIGHT
BEGIN:STANDARD
TZOFFSETFROM:-0400
TZOFFSETTO:-0500
TZNAME:EST
DTSTART:20271107T060000
END:STANDARD
END:VTIMEZONE
BEGIN:VEVENT
DTSTART;TZID=America/New_York:20260401T093000
DTEND;TZID=America/New_York:20260715T123000
DTSTAMP:20260419T150432
CREATED:20260212T122054Z
LAST-MODIFIED:20260212T123314Z
UID:36670-1775035800-1784118600@networkforyouthsuccess.org
SUMMARY:Virtual SAC Credential Prep Course (Part 1) - Spring/Summer 2026
DESCRIPTION:Begins April 1\n9:30-12:30\nApril 1\, 2026-July 1\, 2026\nWednesdays (mostly)\n\n\nCourse Description\nThe School Age Care Credential Course is an in-depth study of competency standards that reflect best practices in after-school programs. This course is specifically designed for individuals currently employed in school age child care programs\, who serve children ages 5 to 13 years old. Competency standards demonstrating the ability to nurture children’s physical\, social\, emotional and intellectual growth will be explored. Major topics include maintaining a safe\, healthy learning environment\, child development\, challenging behaviors\, observing and recording\, working with families\, curriculum development\, operational program management\, communication\, and professionalism. Current theories and trends of working with and educating school age children will be investigated by SACC Candidates. Part 1 covers skill areas 1-7\, and Part 2 covers skill areas 8-14. \nCost\n$1\,450.00* per semester. (Two semesters are required)\n*** Advisement\, Assessment (Endorsement)\, books and required NYSNYS membership fees are not included. \nMethod of Instruction\nVirtual – Live-Instructor. Class sessions will include lectures\, cooperative learning opportunities\, whole group discussions\, group activities\, observations\, and use of audio-visual materials. Note: Google Classroom may be used to support learning. All candidates will need a Gmail account and Google Drive with storage to participate.\nWednesdays\, 9:30-12:30\nLink to Syllabus: https://docs.google.com/document/d/1KDFqXCMBYhLNaK6hsqYlwF8bm2OyuK7IAiBD1GNe0J8/edit?usp=sharing \nREGISTER HERE: https://app.etapestry.com/onlineforms/NewYorkStateNetworkforYou/Virtual.html
URL:https://networkforyouthsuccess.org/events/virtual-sac-credential-prep-course-part-1-spring-summer-2026/
CATEGORIES:SACC Trainings
END:VEVENT
END:VCALENDAR