BEGIN:VCALENDAR
VERSION:2.0
PRODID:-//New York State Network for Youth Success - ECPv6.15.11//NONSGML v1.0//EN
CALSCALE:GREGORIAN
METHOD:PUBLISH
X-ORIGINAL-URL:https://networkforyouthsuccess.org
X-WR-CALDESC:Events for New York State Network for Youth Success
REFRESH-INTERVAL;VALUE=DURATION:PT1H
X-Robots-Tag:noindex
X-PUBLISHED-TTL:PT1H
BEGIN:VTIMEZONE
TZID:America/New_York
BEGIN:DAYLIGHT
TZOFFSETFROM:-0500
TZOFFSETTO:-0400
TZNAME:EDT
DTSTART:20240310T070000
END:DAYLIGHT
BEGIN:STANDARD
TZOFFSETFROM:-0400
TZOFFSETTO:-0500
TZNAME:EST
DTSTART:20241103T060000
END:STANDARD
BEGIN:DAYLIGHT
TZOFFSETFROM:-0500
TZOFFSETTO:-0400
TZNAME:EDT
DTSTART:20250309T070000
END:DAYLIGHT
BEGIN:STANDARD
TZOFFSETFROM:-0400
TZOFFSETTO:-0500
TZNAME:EST
DTSTART:20251102T060000
END:STANDARD
BEGIN:DAYLIGHT
TZOFFSETFROM:-0500
TZOFFSETTO:-0400
TZNAME:EDT
DTSTART:20260308T070000
END:DAYLIGHT
BEGIN:STANDARD
TZOFFSETFROM:-0400
TZOFFSETTO:-0500
TZNAME:EST
DTSTART:20261101T060000
END:STANDARD
END:VTIMEZONE
BEGIN:VEVENT
DTSTART;TZID=America/New_York:20250825T080000
DTEND;TZID=America/New_York:20251220T170000
DTSTAMP:20260419T182249
CREATED:20240530T162654Z
LAST-MODIFIED:20250509T121237Z
UID:31338-1756108800-1766250000@networkforyouthsuccess.org
SUMMARY:Fall Part 1 DL SAC Credential Course (Asynchronous)
DESCRIPTION:PART 1 (Skill Areas 1-7)\nAugust 25-December 25\, 2025\nInstructor: Carla Stough Huffman\n\nSeeking a path to fulfill the educational prerequisites for a site director role in a school-age program?\nInterested in expanding your skill set and preparing for leadership opportunities?\nExplore our SAC Credential Courses—a perfect fit for your goals!\n\n\nCost\n$1\,125.00 per semester. Individuals must take both semesters (Part 1 and Part 2)\n\nCourse Policies\, Syllabus\, and Full Calendar\n\n\nRegister Here: https://app.etapestry.com/onlineforms/NewYorkStateNetworkforYou/DLRegistration.html
URL:https://networkforyouthsuccess.org/events/fall-part-1-dl-sac-credential-course/
LOCATION:Virtual
CATEGORIES:SACC Trainings
END:VEVENT
END:VCALENDAR