BEGIN:VCALENDAR
VERSION:2.0
PRODID:-//New York State Network for Youth Success - ECPv6.15.11//NONSGML v1.0//EN
CALSCALE:GREGORIAN
METHOD:PUBLISH
X-WR-CALNAME:New York State Network for Youth Success
X-ORIGINAL-URL:https://networkforyouthsuccess.org
X-WR-CALDESC:Events for New York State Network for Youth Success
REFRESH-INTERVAL;VALUE=DURATION:PT1H
X-Robots-Tag:noindex
X-PUBLISHED-TTL:PT1H
BEGIN:VTIMEZONE
TZID:America/New_York
BEGIN:DAYLIGHT
TZOFFSETFROM:-0500
TZOFFSETTO:-0400
TZNAME:EDT
DTSTART:20240310T070000
END:DAYLIGHT
BEGIN:STANDARD
TZOFFSETFROM:-0400
TZOFFSETTO:-0500
TZNAME:EST
DTSTART:20241103T060000
END:STANDARD
BEGIN:DAYLIGHT
TZOFFSETFROM:-0500
TZOFFSETTO:-0400
TZNAME:EDT
DTSTART:20250309T070000
END:DAYLIGHT
BEGIN:STANDARD
TZOFFSETFROM:-0400
TZOFFSETTO:-0500
TZNAME:EST
DTSTART:20251102T060000
END:STANDARD
BEGIN:DAYLIGHT
TZOFFSETFROM:-0500
TZOFFSETTO:-0400
TZNAME:EDT
DTSTART:20260308T070000
END:DAYLIGHT
BEGIN:STANDARD
TZOFFSETFROM:-0400
TZOFFSETTO:-0500
TZNAME:EST
DTSTART:20261101T060000
END:STANDARD
END:VTIMEZONE
BEGIN:VEVENT
DTSTART;TZID=America/New_York:20250106T080000
DTEND;TZID=America/New_York:20250106T170000
DTSTAMP:20260420T074527
CREATED:20241025T160957Z
LAST-MODIFIED:20241025T160957Z
UID:32599-1736150400-1736182800@networkforyouthsuccess.org
SUMMARY:Distance Learning (Asynchronous) SAC Credential
DESCRIPTION:Distance Learning (Asynchronous) SAC Credential- Part 2\nCourse Dates: January 6 – April 28\nInstructor: Alysha Branch\nCost: $1125.00 per semester. (Includes a homework helper. Does not include advisement or endorsement.) \nLooking to gain the knowledge and skills to effectively run a SAC program?  The SAC Credential offers individuals the opportunity to reflect on their practice using the 14 skill areas (ex: professionalism\, safety\, child development\, etc.) in the SAC Credential Tool. Asynchronous courses are hosted in Google Classroom and allow for self-paced online learning with activities and assignments to be completed within two-week timeframes. Individuals must take Part 1 and Part 2\, which can  be taken in either order\, and in a variety of formats. \nClick here for Virtual Course Policies\, Syllabus\, and Full Calendar
URL:https://networkforyouthsuccess.org/events/distance-learning-asynchronous-sac-credential/
CATEGORIES:SACC Trainings
END:VEVENT
BEGIN:VEVENT
DTSTART;TZID=America/New_York:20250109T090000
DTEND;TZID=America/New_York:20250109T120000
DTSTAMP:20260420T074527
CREATED:20241025T155815Z
LAST-MODIFIED:20241025T155823Z
UID:32597-1736413200-1736424000@networkforyouthsuccess.org
SUMMARY:Virtual (Live Instructor) SAC Credential- Part 1
DESCRIPTION:Virtual (Live Instructor) SAC Credential- Part 1\nCourse Dates: January 9 – April 3\nTime: Thursdays\, 9:00am – 12:00pm\nInstructor: Alysha Branch\nCost: $1250.00 per semester. (Includes a homework helper. Does not include advisement or endorsement.) \nLooking to gain the knowledge and skills to effectively run a SAC program?  The SAC Credential offers individuals the opportunity to reflect on their practice using the 14 skill areas (ex: professionalism\, safety\, child development\, etc.) in the SAC Credential Tool.  Virtual Courses feature live virtual instruction\, incorporating lectures\, cooperative learning\, group discussions\, activities\, observations\, and multimedia materials. Individuals must take Part 1 and Part 2\, which can  be taken in either order\, and in a variety of formats. \nClick here for Virtual Course Policies\, Syllabus\, and Full Calendar
URL:https://networkforyouthsuccess.org/events/virtual-live-instructor-sac-credential-part-1/
CATEGORIES:SACC Trainings
END:VEVENT
END:VCALENDAR