BEGIN:VCALENDAR
VERSION:2.0
PRODID:-//New York State Network for Youth Success - ECPv6.15.11//NONSGML v1.0//EN
CALSCALE:GREGORIAN
METHOD:PUBLISH
X-WR-CALNAME:New York State Network for Youth Success
X-ORIGINAL-URL:https://networkforyouthsuccess.org
X-WR-CALDESC:Events for New York State Network for Youth Success
REFRESH-INTERVAL;VALUE=DURATION:PT1H
X-Robots-Tag:noindex
X-PUBLISHED-TTL:PT1H
BEGIN:VTIMEZONE
TZID:America/New_York
BEGIN:DAYLIGHT
TZOFFSETFROM:-0500
TZOFFSETTO:-0400
TZNAME:EDT
DTSTART:20240310T070000
END:DAYLIGHT
BEGIN:STANDARD
TZOFFSETFROM:-0400
TZOFFSETTO:-0500
TZNAME:EST
DTSTART:20241103T060000
END:STANDARD
BEGIN:DAYLIGHT
TZOFFSETFROM:-0500
TZOFFSETTO:-0400
TZNAME:EDT
DTSTART:20250309T070000
END:DAYLIGHT
BEGIN:STANDARD
TZOFFSETFROM:-0400
TZOFFSETTO:-0500
TZNAME:EST
DTSTART:20251102T060000
END:STANDARD
BEGIN:DAYLIGHT
TZOFFSETFROM:-0500
TZOFFSETTO:-0400
TZNAME:EDT
DTSTART:20260308T070000
END:DAYLIGHT
BEGIN:STANDARD
TZOFFSETFROM:-0400
TZOFFSETTO:-0500
TZNAME:EST
DTSTART:20261101T060000
END:STANDARD
END:VTIMEZONE
BEGIN:VEVENT
DTSTART;TZID=America/New_York:20250402T120000
DTEND;TZID=America/New_York:20250402T130000
DTSTAMP:20260419T231705
CREATED:20241218T165306Z
LAST-MODIFIED:20250305T205552Z
UID:33025-1743595200-1743598800@networkforyouthsuccess.org
SUMMARY:Ready. Set. Innovate!
DESCRIPTION:Register Here \nThis exclusive virtual professional development workshop\, developed by the National Inventors Hall of Fame\, offers the opportunity to participate in a hands-on experience using teaching and learning strategies to incorporate STEM and invention education into the classroom. \nParticipants will receive their own materials kit to use during the workshop. \nOutcomes:\n– Uncover dynamic teaching techniques that elevate students’ critical thinking and creative problem solving skills\n– Dive into the I Can Invent® Mindset\, which inspires some of the world’s greatest inventors and also hundreds of thousands of students across the country each year. \nAbout the Presenter:\nPolly Jones is a Regional Program Manager working with school districts across New York State. Polly is a former educator who loved promoting creativity and discovery in her classroom. What better place to work after 30 years in education than the National Inventors Hall of Fame (NIHF)! She received her Bachelor of Science in Psychology from Duke University as well as a BS and MLIS from Kent State University. \nSocial:\nLinkedin\, Facebook @ Polly Jones
URL:https://networkforyouthsuccess.org/events/ready-set-innovate/
CATEGORIES:STEAM
END:VEVENT
END:VCALENDAR