BEGIN:VCALENDAR
VERSION:2.0
PRODID:-//New York State Network for Youth Success - ECPv6.15.11//NONSGML v1.0//EN
CALSCALE:GREGORIAN
METHOD:PUBLISH
X-ORIGINAL-URL:https://networkforyouthsuccess.org
X-WR-CALDESC:Events for New York State Network for Youth Success
REFRESH-INTERVAL;VALUE=DURATION:PT1H
X-Robots-Tag:noindex
X-PUBLISHED-TTL:PT1H
BEGIN:VTIMEZONE
TZID:America/New_York
BEGIN:DAYLIGHT
TZOFFSETFROM:-0500
TZOFFSETTO:-0400
TZNAME:EDT
DTSTART:20240310T070000
END:DAYLIGHT
BEGIN:STANDARD
TZOFFSETFROM:-0400
TZOFFSETTO:-0500
TZNAME:EST
DTSTART:20241103T060000
END:STANDARD
BEGIN:DAYLIGHT
TZOFFSETFROM:-0500
TZOFFSETTO:-0400
TZNAME:EDT
DTSTART:20250309T070000
END:DAYLIGHT
BEGIN:STANDARD
TZOFFSETFROM:-0400
TZOFFSETTO:-0500
TZNAME:EST
DTSTART:20251102T060000
END:STANDARD
BEGIN:DAYLIGHT
TZOFFSETFROM:-0500
TZOFFSETTO:-0400
TZNAME:EDT
DTSTART:20260308T070000
END:DAYLIGHT
BEGIN:STANDARD
TZOFFSETFROM:-0400
TZOFFSETTO:-0500
TZNAME:EST
DTSTART:20261101T060000
END:STANDARD
END:VTIMEZONE
BEGIN:VEVENT
DTSTART;TZID=America/New_York:20250219T120000
DTEND;TZID=America/New_York:20250219T130000
DTSTAMP:20260420T023755
CREATED:20241218T150944Z
LAST-MODIFIED:20241218T151120Z
UID:33013-1739966400-1739970000@networkforyouthsuccess.org
SUMMARY:Educators Guide to Design Thinking
DESCRIPTION:Using Design Thinking in your classroom equips students with the problem solving skills to tackle real world challenges and foster creativity and collaboration.  \nOutcomes:\n– Educators will learn the step-by-step process to implement design thinking in their classrooms \nAbout the Presenter:\nLiz Gallo is an educator\, innovator\, and visionary leader dedicated to shaping dynamic educational experiences for teachers and their students. As founder and CEO\, she is on a mission to design the future of education\, where teachers act as learning engineers\, equipping their students to tackle the challenges of tomorrow. WhyMaker With a passion for bringing relevant\, real-world learning to classrooms\, she dedicates her career to empowering teachers to excel in their craft. Driven by a deep-seated commitment to education\, Liz inspires educators to embrace creativity\, problem-solving\, and hands-on learning. Liz has taught technology and engineering education for over a decade in all types of schools around the world. Now as the leader of WhyMaker\, she strives to help teachers teach students in meaningful and authentic ways. Under her leadership\, WhyMaker made a tangible impact on over 15\,000 educators worldwide\, inspiring a new generation of innovators and problem-solvers. Through strategic partnerships\, collaborations\, and outreach efforts\, WhyMaker extended its reach to underserved communities\, fostering equity and access to education. WhyMaker also partners with leading companies in the sustainability sector to develop immersive learning experiences for teachers and students to engage with cutting-edge technologies\, explore career pathways in clean energy\, and contribute to solutions for global sustainability challenges. \nSocial:\nX\, IG\, TikTok @ Whymaker
URL:https://networkforyouthsuccess.org/events/educators-guide-to-design-thinking/
CATEGORIES:STEAM
END:VEVENT
END:VCALENDAR