BEGIN:VCALENDAR
VERSION:2.0
PRODID:-//New York State Network for Youth Success - ECPv6.15.11//NONSGML v1.0//EN
CALSCALE:GREGORIAN
METHOD:PUBLISH
X-ORIGINAL-URL:https://networkforyouthsuccess.org
X-WR-CALDESC:Events for New York State Network for Youth Success
REFRESH-INTERVAL;VALUE=DURATION:PT1H
X-Robots-Tag:noindex
X-PUBLISHED-TTL:PT1H
BEGIN:VTIMEZONE
TZID:America/New_York
BEGIN:DAYLIGHT
TZOFFSETFROM:-0500
TZOFFSETTO:-0400
TZNAME:EDT
DTSTART:20240310T070000
END:DAYLIGHT
BEGIN:STANDARD
TZOFFSETFROM:-0400
TZOFFSETTO:-0500
TZNAME:EST
DTSTART:20241103T060000
END:STANDARD
BEGIN:DAYLIGHT
TZOFFSETFROM:-0500
TZOFFSETTO:-0400
TZNAME:EDT
DTSTART:20250309T070000
END:DAYLIGHT
BEGIN:STANDARD
TZOFFSETFROM:-0400
TZOFFSETTO:-0500
TZNAME:EST
DTSTART:20251102T060000
END:STANDARD
BEGIN:DAYLIGHT
TZOFFSETFROM:-0500
TZOFFSETTO:-0400
TZNAME:EDT
DTSTART:20260308T070000
END:DAYLIGHT
BEGIN:STANDARD
TZOFFSETFROM:-0400
TZOFFSETTO:-0500
TZNAME:EST
DTSTART:20261101T060000
END:STANDARD
END:VTIMEZONE
BEGIN:VEVENT
DTSTART;TZID=America/New_York:20250516T120000
DTEND;TZID=America/New_York:20250516T130000
DTSTAMP:20260419T212841
CREATED:20241218T173753Z
LAST-MODIFIED:20241218T173753Z
UID:33036-1747396800-1747400400@networkforyouthsuccess.org
SUMMARY:Building Simple Circuits using Common or Accessible Materials
DESCRIPTION:We will building circuits and create reusable circuit components from common or easily purchased materials such as paper\, copper tape\, paper clips\, aluminum foil\, etc. \nOutcomes:\n– Explore simple circuit theory\n– Build reusable circuit components that students can bring home\n– Identify online resources for similar ideas \nAbout the Presenter:\nWalt received his bachelor’s degree in electrical engineering from Rensselaer Polytechnic Institute and his master’s degree in computer science from Union College. For almost 25 years\, he’s been involved in submarine development; originally working at Bechtel Plant Machinery\, Inc. and then at Knolls Atomic Power Laboratory\, where he currently works as an Engineering Manager. Previously\, Walt also served in the US Navy and Navy Reserve before being honorably discharged. Walt currently lives on a small farm in Delanson. \nSocial:\nFacebook/Instagram @ SmistNy\nX @ SmistNy
URL:https://networkforyouthsuccess.org/events/building-simple-circuits-using-common-or-accessible-materials-2/
CATEGORIES:STEAM
END:VEVENT
BEGIN:VEVENT
DTSTART;TZID=America/New_York:20250521T120000
DTEND;TZID=America/New_York:20250521T133000
DTSTAMP:20260419T212841
CREATED:20250305T204634Z
LAST-MODIFIED:20250305T204752Z
UID:33559-1747828800-1747834200@networkforyouthsuccess.org
SUMMARY:From Idea to Impact: How to Start a STEM Club That Engages & Inspires!
DESCRIPTION:Register Here \nWant to start a STEM club\, but not sure where to begin? Maybe you have limited time\, resources\, or STEM experience—but you know how important it is to create hands-on\, engaging STEM opportunities for students. This interactive\, practical session will walk you through everything you need to confidently launch a fun\, sustainable STEM club—whether you’re working in a classroom\, after-school program\, or another learning space. \nWhat You’ll Learn: \n🔹 Quick-Start STEM Club Planning – How to launch with minimal stress & maximum impact. \n🔹 Engaging STEM Themes & Activities – Plug-and-play ideas to fit any grade level. \n🔹 Meeting Structures That Work – Keep students engaged while making STEM fun & accessible. \n🔹 Finding Support & Resources – How to connect with partners\, role models\, and funding opportunities. \n🔹 Avoiding Common Pitfalls – What works (and what doesn’t) when running a STEM club. \nBy the end\, you’ll have a clear plan\, ready-to-use ideas\, and action steps to start your STEM club right away! Who Should Attend? Educators working with grades 3-8\, whether in a school\, after-school program\, library\, museum\, or other learning environment. Join us and get ready to ignite curiosity\, creativity\, and discovery in the next generation of STEM leaders! \nPresenter: \nNancy Scales-Coddington | Owner\, SciComm Solutions | STEM Consultant | Founder\, STEM Socialite Nancy Scales Coddington is a STEM education consultant with over 24 years of experience in designing and leading STEM clubs\, programs\, and educator trainings. A former public media producer\, she specializes in making STEM engaging\, accessible\, and sustainable for both in-school and out-of-school learning spaces. Nancy serves as an advisor for PBS KIDS educational content and is a board member of the Science Teachers Association of New York State. She has trained educators nationwide on creating impactful STEM experiences and is passionate about fostering curiosity\, creativity\, and inclusion in STEM education. \n  \nSocial: \nX\, IG\, Blusky @NancyCoddington \nX\, IG\, TikTok @STEMSocialite
URL:https://networkforyouthsuccess.org/events/from-idea-to-impact-how-to-start-a-stem-club-that-engages-inspires/
CATEGORIES:STEAM
END:VEVENT
END:VCALENDAR