BEGIN:VCALENDAR
VERSION:2.0
PRODID:-//New York State Network for Youth Success - ECPv6.15.11//NONSGML v1.0//EN
CALSCALE:GREGORIAN
METHOD:PUBLISH
X-ORIGINAL-URL:https://networkforyouthsuccess.org
X-WR-CALDESC:Events for New York State Network for Youth Success
REFRESH-INTERVAL;VALUE=DURATION:PT1H
X-Robots-Tag:noindex
X-PUBLISHED-TTL:PT1H
BEGIN:VTIMEZONE
TZID:America/New_York
BEGIN:DAYLIGHT
TZOFFSETFROM:-0500
TZOFFSETTO:-0400
TZNAME:EDT
DTSTART:20220313T070000
END:DAYLIGHT
BEGIN:STANDARD
TZOFFSETFROM:-0400
TZOFFSETTO:-0500
TZNAME:EST
DTSTART:20221106T060000
END:STANDARD
BEGIN:DAYLIGHT
TZOFFSETFROM:-0500
TZOFFSETTO:-0400
TZNAME:EDT
DTSTART:20230312T070000
END:DAYLIGHT
BEGIN:STANDARD
TZOFFSETFROM:-0400
TZOFFSETTO:-0500
TZNAME:EST
DTSTART:20231105T060000
END:STANDARD
BEGIN:DAYLIGHT
TZOFFSETFROM:-0500
TZOFFSETTO:-0400
TZNAME:EDT
DTSTART:20240310T070000
END:DAYLIGHT
BEGIN:STANDARD
TZOFFSETFROM:-0400
TZOFFSETTO:-0500
TZNAME:EST
DTSTART:20241103T060000
END:STANDARD
END:VTIMEZONE
BEGIN:VEVENT
DTSTART;TZID=America/New_York:20230808T100000
DTEND;TZID=America/New_York:20230808T113000
DTSTAMP:20260421T115648
CREATED:20230607T205000Z
LAST-MODIFIED:20230607T210719Z
UID:26331-1691488800-1691494200@networkforyouthsuccess.org
SUMMARY:Bias: A Human Condition
DESCRIPTION:This highly interactive training opportunity will discuss the neurological basis for implicit bias. Participants will be able to reframe their understanding of bias and learn practical definitions for diversity\, equity\, and inclusion terms. Real-life examples and relevant research will be discussed to assist participants in identifying bias within various every day and educational contexts.
URL:https://networkforyouthsuccess.org/events/bias-a-human-condition-5/
CATEGORIES:JEDI Training Series
END:VEVENT
BEGIN:VEVENT
DTSTART;TZID=America/New_York:20230809T110000
DTEND;TZID=America/New_York:20230809T120000
DTSTAMP:20260421T115648
CREATED:20230607T204735Z
LAST-MODIFIED:20230607T210749Z
UID:26328-1691578800-1691582400@networkforyouthsuccess.org
SUMMARY:Accessibility in the Workplace
DESCRIPTION:When an organization successfully builds a culture of inclusion\, employees feel comfortable bringing their full selves to work. This interactive session will explore how to build an inclusive environment for employees including creating an accessible hiring process\, staff meetings\, and training. This session will be valuable to current and aspiring leaders. Note: This session will NOT cover ADA accessibility. Prerequisite: Accessibility 101
URL:https://networkforyouthsuccess.org/events/accessibility-in-the-workforce/
CATEGORIES:JEDI Training Series
END:VEVENT
BEGIN:VEVENT
DTSTART;TZID=America/New_York:20230822T100000
DTEND;TZID=America/New_York:20230822T110000
DTSTAMP:20260421T115648
CREATED:20230807T180555Z
LAST-MODIFIED:20230807T180919Z
UID:28481-1692698400-1692702000@networkforyouthsuccess.org
SUMMARY:Deepening Allyship for LGBTQIA Children & Youth
DESCRIPTION:Take your allyship to the next level with an introspective exploration. We often don’t notice how our own experiences of gender and attraction shape how we provide care and education for youth. Allyship isn’t about being “tolerant” or even “supportive.” It’s about ACTION – so let’s dive in!
URL:https://networkforyouthsuccess.org/events/deepening-allyship-for-lgbtqia-children-youth-3/
LOCATION:Zoom
CATEGORIES:JEDI Training Series
END:VEVENT
BEGIN:VEVENT
DTSTART;TZID=America/New_York:20230823T103000
DTEND;TZID=America/New_York:20230823T120000
DTSTAMP:20260421T115648
CREATED:20230316T171943Z
LAST-MODIFIED:20230811T125326Z
UID:24193-1692786600-1692792000@networkforyouthsuccess.org
SUMMARY:Expanding Trauma-Informed Care to Recognize the Impacts of Historical Traumas
DESCRIPTION:This session will address Cultural Humility from a Haudenosaunee and Native American\ncultural perspective and discuss some of the historical and continuing factors that impact\ndiverse communities but are often unrecognized by mainstream society. Using a Trauma-\nInformed Care approach\, we will explore the multiple factors of historical traumas and the\nunresolved\, continuing consequences of these challenges\, referencing Native American\nexperiences. Based on these perspectives\, we will provide insights into some of the dynamics that may impact cross-cultural interactions\, levels of trust and mistrust\, and emerging approaches that are designed to improve the health and wellbeing of all peoples.
URL:https://networkforyouthsuccess.org/events/expanding-trauma-informed-care-to-recognize-the-impacts-of-historical-traumas/
CATEGORIES:JEDI Training Series
END:VEVENT
BEGIN:VEVENT
DTSTART;TZID=America/New_York:20230830T110000
DTEND;TZID=America/New_York:20230830T120000
DTSTAMP:20260421T115648
CREATED:20230607T205158Z
LAST-MODIFIED:20230607T210813Z
UID:26333-1693393200-1693396800@networkforyouthsuccess.org
SUMMARY:Accessibility during Youth Engagement
DESCRIPTION:Our organizations strive to serve all youth\, but is your programming truly inclusive for students with disabilities? In this interactive session\, participants will assess the current accessibility of their youth programming and develop strategies for increasing it. Participants will discuss the unique challenges around language as it relates to youth with disabilities. Note: This session will NOT cover ADA accessibility. Prerequisite: Accessibility 101
URL:https://networkforyouthsuccess.org/events/accessibility-during-youth-engagement/
CATEGORIES:JEDI Training Series
END:VEVENT
END:VCALENDAR