BEGIN:VCALENDAR
VERSION:2.0
PRODID:-//New York State Network for Youth Success - ECPv6.15.11//NONSGML v1.0//EN
CALSCALE:GREGORIAN
METHOD:PUBLISH
X-WR-CALNAME:New York State Network for Youth Success
X-ORIGINAL-URL:https://networkforyouthsuccess.org
X-WR-CALDESC:Events for New York State Network for Youth Success
REFRESH-INTERVAL;VALUE=DURATION:PT1H
X-Robots-Tag:noindex
X-PUBLISHED-TTL:PT1H
BEGIN:VTIMEZONE
TZID:America/New_York
BEGIN:DAYLIGHT
TZOFFSETFROM:-0500
TZOFFSETTO:-0400
TZNAME:EDT
DTSTART:20230312T070000
END:DAYLIGHT
BEGIN:STANDARD
TZOFFSETFROM:-0400
TZOFFSETTO:-0500
TZNAME:EST
DTSTART:20231105T060000
END:STANDARD
BEGIN:DAYLIGHT
TZOFFSETFROM:-0500
TZOFFSETTO:-0400
TZNAME:EDT
DTSTART:20240310T070000
END:DAYLIGHT
BEGIN:STANDARD
TZOFFSETFROM:-0400
TZOFFSETTO:-0500
TZNAME:EST
DTSTART:20241103T060000
END:STANDARD
BEGIN:DAYLIGHT
TZOFFSETFROM:-0500
TZOFFSETTO:-0400
TZNAME:EDT
DTSTART:20250309T070000
END:DAYLIGHT
BEGIN:STANDARD
TZOFFSETFROM:-0400
TZOFFSETTO:-0500
TZNAME:EST
DTSTART:20251102T060000
END:STANDARD
END:VTIMEZONE
BEGIN:VEVENT
DTSTART;TZID=America/New_York:20240826T093000
DTEND;TZID=America/New_York:20240826T123000
DTSTAMP:20260419T170048
CREATED:20240221T141357Z
LAST-MODIFIED:20240530T162400Z
UID:30699-1724664600-1724675400@networkforyouthsuccess.org
SUMMARY:Fall 2024 (Part 1) DL Semester Begins!
DESCRIPTION:Seeking a path to fulfill the educational prerequisites for a site director role in a school-age program?\n\nInterested in expanding your skill set and preparing for leadership opportunities?\n\nExplore our SAC Credential Courses—a perfect fit for your goals!\n\nThe Network for Youth Success provides two course options:\n\n\nVirtual Course\, featuring live virtual instruction. Incorporates lectures\, cooperative learning\, group discussions\, activities\, observations\, and multimedia materials.\nAsynchronous distance learning course\, hosted on the Google Classroom platform. Allows for self-paced online learning with activities and assignments to be completed within two-week timeframes.\n\n\n\n\nVirtual (Live Instructor) SAC Credential Classes\n\nDates\nFall 24 (Part 2) 9/20/24-12/20/24\n*Classes (Parts 1 and 2) can be taken in either order\, and in a variety of formats.\n\nTime: Fridays\, 9:30 am-12:30 pm\nInstructor: Sara Rickan\n\nCost: $1\,250 per semester. Individuals must take both semesters (Part 1 and Part 2)\n\nCourse Policies\, Syllabus\, and Full Calendar
URL:https://networkforyouthsuccess.org/events/fall-2024-part-1-dl-semester-begins/
LOCATION:Virtual
END:VEVENT
END:VCALENDAR