BEGIN:VCALENDAR
VERSION:2.0
PRODID:-//New York State Network for Youth Success - ECPv6.15.11//NONSGML v1.0//EN
CALSCALE:GREGORIAN
METHOD:PUBLISH
X-WR-CALNAME:New York State Network for Youth Success
X-ORIGINAL-URL:https://networkforyouthsuccess.org
X-WR-CALDESC:Events for New York State Network for Youth Success
REFRESH-INTERVAL;VALUE=DURATION:PT1H
X-Robots-Tag:noindex
X-PUBLISHED-TTL:PT1H
BEGIN:VTIMEZONE
TZID:America/New_York
BEGIN:DAYLIGHT
TZOFFSETFROM:-0500
TZOFFSETTO:-0400
TZNAME:EDT
DTSTART:20230312T070000
END:DAYLIGHT
BEGIN:STANDARD
TZOFFSETFROM:-0400
TZOFFSETTO:-0500
TZNAME:EST
DTSTART:20231105T060000
END:STANDARD
BEGIN:DAYLIGHT
TZOFFSETFROM:-0500
TZOFFSETTO:-0400
TZNAME:EDT
DTSTART:20240310T070000
END:DAYLIGHT
BEGIN:STANDARD
TZOFFSETFROM:-0400
TZOFFSETTO:-0500
TZNAME:EST
DTSTART:20241103T060000
END:STANDARD
BEGIN:DAYLIGHT
TZOFFSETFROM:-0500
TZOFFSETTO:-0400
TZNAME:EDT
DTSTART:20250309T070000
END:DAYLIGHT
BEGIN:STANDARD
TZOFFSETFROM:-0400
TZOFFSETTO:-0500
TZNAME:EST
DTSTART:20251102T060000
END:STANDARD
END:VTIMEZONE
BEGIN:VEVENT
DTSTART;TZID=America/New_York:20240516T160000
DTEND;TZID=America/New_York:20240516T170000
DTSTAMP:20260419T103449
CREATED:20240322T163346Z
LAST-MODIFIED:20240514T205642Z
UID:30919-1715875200-1715878800@networkforyouthsuccess.org
SUMMARY:So You Want to Start a STEM Club Session 1
DESCRIPTION:Are you passionate about fostering curiosity\, creativity\, and collaboration in young minds? Join us for a comprehensive workshop designed for educators eager to launch their own (Science\, Technology\, Engineering\, and Mathematics) STEM club! Over two engaging one-hour sessions\, we’ll explore everything you need to know to kickstart your club successfully. \nSession 1: Building Your STEM Club Foundation \nIn this session\, we’ll delve into the fundamentals of launching a STEM club. From defining your club’s mission and goals to securing resources and setting up logistics\, we’ll guide you through the essential steps to ensure a strong foundation. Additionally\, we’ll discuss the importance of partnerships\, role models\, and collaborations with local organizations\, businesses\, and educational institutions to enrich your club’s offerings and opportunities. \nObjectives: \n– Understand the key components of a successful STEM club. \n– Identify considerations and logistics when starting a club. \n– Explore potential partners\, role models\, and collaborators for club activities. \nPresenter: Nancy Scales-Coddington\, STEM Consultant\, Founder STEM Socialite  \nNancy Scales-Coddington is a seasoned STEM consultant with over 24 years of experience in leading\, creating\, and advising STEM clubs\, events\, and classes. With a background in public media spanning 15 years\, she brings a wealth of knowledge and insight to her work. Nancy’s dedication to education extends to her role as an advisor for PBS KIDS programs\, where she contributes her expertise to shape educational content. Additionally\, she serves on the board of the Science Teachers Association of New York State\, further demonstrating her commitment to advancing STEM education. As a SciGirls trainer focused on gender equity in STEM and a national presenter for STEM-related topics\, Nancy is passionate about empowering individuals and promoting inclusivity in the field. She lives in the Finger Lakes of New York\, where she enjoys hiking with her dog\, paddleboarding\, and skiing.  \nSocial: \nX\, IG @ NancyCoddington \nX\, IG\, TikTok @ STEMSocialite
URL:https://networkforyouthsuccess.org/events/so-you-want-to-start-a-stem-club-session-1/
END:VEVENT
END:VCALENDAR