BEGIN:VCALENDAR
VERSION:2.0
PRODID:-//New York State Network for Youth Success - ECPv6.15.11//NONSGML v1.0//EN
CALSCALE:GREGORIAN
METHOD:PUBLISH
X-ORIGINAL-URL:https://networkforyouthsuccess.org
X-WR-CALDESC:Events for New York State Network for Youth Success
REFRESH-INTERVAL;VALUE=DURATION:PT1H
X-Robots-Tag:noindex
X-PUBLISHED-TTL:PT1H
BEGIN:VTIMEZONE
TZID:America/New_York
BEGIN:DAYLIGHT
TZOFFSETFROM:-0500
TZOFFSETTO:-0400
TZNAME:EDT
DTSTART:20230312T070000
END:DAYLIGHT
BEGIN:STANDARD
TZOFFSETFROM:-0400
TZOFFSETTO:-0500
TZNAME:EST
DTSTART:20231105T060000
END:STANDARD
BEGIN:DAYLIGHT
TZOFFSETFROM:-0500
TZOFFSETTO:-0400
TZNAME:EDT
DTSTART:20240310T070000
END:DAYLIGHT
BEGIN:STANDARD
TZOFFSETFROM:-0400
TZOFFSETTO:-0500
TZNAME:EST
DTSTART:20241103T060000
END:STANDARD
BEGIN:DAYLIGHT
TZOFFSETFROM:-0500
TZOFFSETTO:-0400
TZNAME:EDT
DTSTART:20250309T070000
END:DAYLIGHT
BEGIN:STANDARD
TZOFFSETFROM:-0400
TZOFFSETTO:-0500
TZNAME:EST
DTSTART:20251102T060000
END:STANDARD
END:VTIMEZONE
BEGIN:VEVENT
DTSTART;TZID=America/New_York:20240425T120000
DTEND;TZID=America/New_York:20240425T130000
DTSTAMP:20260419T090036
CREATED:20240319T192515Z
LAST-MODIFIED:20240329T143012Z
UID:30910-1714046400-1714050000@networkforyouthsuccess.org
SUMMARY:Spark with STEAM: Creative Computing with Electronics
DESCRIPTION:Join Thimble.io for an electrifying knowledge series experience titled “Spark with STEAM: Creative Computing with Electronics.” Whether you’re an educator\, an after-school instructor\, or simply passionate about STEAM education\, this session is crafted to immerse you in the dynamic world of creative computing and electronics integration. Sign up and join us to discover how to ignite curiosity through creative computing and electronics! \nSign up with the website link below
URL:https://networkforyouthsuccess.org/events/spark-with-steam-creative-computing-with-electronics/
END:VEVENT
END:VCALENDAR