BEGIN:VCALENDAR
VERSION:2.0
PRODID:-//New York State Network for Youth Success - ECPv6.15.11//NONSGML v1.0//EN
CALSCALE:GREGORIAN
METHOD:PUBLISH
X-WR-CALNAME:New York State Network for Youth Success
X-ORIGINAL-URL:https://networkforyouthsuccess.org
X-WR-CALDESC:Events for New York State Network for Youth Success
REFRESH-INTERVAL;VALUE=DURATION:PT1H
X-Robots-Tag:noindex
X-PUBLISHED-TTL:PT1H
BEGIN:VTIMEZONE
TZID:America/New_York
BEGIN:DAYLIGHT
TZOFFSETFROM:-0500
TZOFFSETTO:-0400
TZNAME:EDT
DTSTART:20230312T070000
END:DAYLIGHT
BEGIN:STANDARD
TZOFFSETFROM:-0400
TZOFFSETTO:-0500
TZNAME:EST
DTSTART:20231105T060000
END:STANDARD
BEGIN:DAYLIGHT
TZOFFSETFROM:-0500
TZOFFSETTO:-0400
TZNAME:EDT
DTSTART:20240310T070000
END:DAYLIGHT
BEGIN:STANDARD
TZOFFSETFROM:-0400
TZOFFSETTO:-0500
TZNAME:EST
DTSTART:20241103T060000
END:STANDARD
BEGIN:DAYLIGHT
TZOFFSETFROM:-0500
TZOFFSETTO:-0400
TZNAME:EDT
DTSTART:20250309T070000
END:DAYLIGHT
BEGIN:STANDARD
TZOFFSETFROM:-0400
TZOFFSETTO:-0500
TZNAME:EST
DTSTART:20251102T060000
END:STANDARD
END:VTIMEZONE
BEGIN:VEVENT
DTSTART;TZID=America/New_York:20240222T130000
DTEND;TZID=America/New_York:20240222T140000
DTSTAMP:20260419T085621
CREATED:20240119T190936Z
LAST-MODIFIED:20240119T191519Z
UID:30402-1708606800-1708610400@networkforyouthsuccess.org
SUMMARY:Learning\, Experienced (LXP) in Out-of-School Time
DESCRIPTION:Learning\, Experienced (LXP) in Out-of-School Time \nFebruary 22\, 2024\, 1:00 pm EST \nJoin us for this interactive session to learn more about the Learning\, Experienced (LXP) model; we’ll explore how to bring immersive experiences with collaborative discovery into extended learning programming and discuss the impact this has on students. You’ll leave with 5 hands-on experiential learning activities that can be used in your program the next day.  \nThis session will not count for OCFS training credit. \nLearn More: https://www.prosolve.com/lxpwebinar \nRegister:  https://prosolve.webinargeek.com/lxpwebinar \n  \nLeveling Up: Designing Experiences Beyond the Ordinary \nJoin ProSolve for our Leveling Up: Designing Experiences Beyond the Ordinary\, a FREE Virtual Webinar Series bringing experiential learning to extended learning programming.  \nThis three-part series is designed to provide facilitators\, site leaders\, and program directors with the tools they need to increase engagement\, build skills for the whole child\, and raise attendance rates through innovative out-of-school time programming. Attendees are encouraged to join one or all sessions.  \nThe dates for parts two and three in this series will be: February 29th and March 7th \nPresenters:  \nDr. Michelle Ament – Chief Academic Officer \nMichelle has served as an educator and district administrator for over 25 years. As the Chief Academic Officer\, she supports ProSolve’s commitment to being a thought leader in the educational space as they reimagine a more student-centered ecosystem in which learners engage in immersive experiences to build academic skills and transfer social and emotional learning throughout the school environment and workforce. Michelle holds a doctorate in degree in Educational Leadership.  \nJessica Marucci – Director of Experiential Professional Development  \nJessica is committed to providing authentic and meaningful learning opportunities for both students and adults with 8+ years of experience in experiential education. As the Director of Experiential PD at ProSolve\, she is dedicated to empowering and supporting educators in providing engaging learning experiences that target and cultivate Human Intelligence. Jessica holds a master’s degree in Education. \nTiffany Sawyer – Educational Designer  \nTiffany is a former educator with 15 years of experience creating and leading meaningful educational opportunities for adults and children\, focusing on experiential education. She is driven to create authentic and engaging educational experiences that help build and strengthen career readiness and professional growth. Tiffany holds a master’s degree in Education.
URL:https://networkforyouthsuccess.org/events/learning-experienced-lxp-in-out-of-school-time/
LOCATION:Virtual
END:VEVENT
END:VCALENDAR