BEGIN:VCALENDAR
VERSION:2.0
PRODID:-//New York State Network for Youth Success - ECPv6.15.11//NONSGML v1.0//EN
CALSCALE:GREGORIAN
METHOD:PUBLISH
X-ORIGINAL-URL:https://networkforyouthsuccess.org
X-WR-CALDESC:Events for New York State Network for Youth Success
REFRESH-INTERVAL;VALUE=DURATION:PT1H
X-Robots-Tag:noindex
X-PUBLISHED-TTL:PT1H
BEGIN:VTIMEZONE
TZID:America/New_York
BEGIN:DAYLIGHT
TZOFFSETFROM:-0500
TZOFFSETTO:-0400
TZNAME:EDT
DTSTART:20230312T070000
END:DAYLIGHT
BEGIN:STANDARD
TZOFFSETFROM:-0400
TZOFFSETTO:-0500
TZNAME:EST
DTSTART:20231105T060000
END:STANDARD
BEGIN:DAYLIGHT
TZOFFSETFROM:-0500
TZOFFSETTO:-0400
TZNAME:EDT
DTSTART:20240310T070000
END:DAYLIGHT
BEGIN:STANDARD
TZOFFSETFROM:-0400
TZOFFSETTO:-0500
TZNAME:EST
DTSTART:20241103T060000
END:STANDARD
BEGIN:DAYLIGHT
TZOFFSETFROM:-0500
TZOFFSETTO:-0400
TZNAME:EDT
DTSTART:20250309T070000
END:DAYLIGHT
BEGIN:STANDARD
TZOFFSETFROM:-0400
TZOFFSETTO:-0500
TZNAME:EST
DTSTART:20251102T060000
END:STANDARD
END:VTIMEZONE
BEGIN:VEVENT
DTSTART;TZID=America/New_York:20240213T100000
DTEND;TZID=America/New_York:20240213T113000
DTSTAMP:20260419T103838
CREATED:20240125T190104Z
LAST-MODIFIED:20240125T190614Z
UID:30467-1707818400-1707823800@networkforyouthsuccess.org
SUMMARY:Exploring a STEM Identity
DESCRIPTION:Description: Learn techniques to help youth ‘try on’ roles in order to develop a STEM identity. STEM identity is critical for youth in developing interests and skills in STEM: youth who see themselves as scientists\, engineers\, mathematicians\, and technologists are likely to persist in learning. Join PD Director Timothy Fowler in understanding STEM identity and learning practical ways to develop STEM identity in youth programs. \nGoal: To learn how STEM identity helps youth understand themselves and develop skills \nObjectives: \n\nDefine STEM identity\nApply techniques in an activity to promote STEM identity development in youth\n\nOCFS area(s) 3 \nCBK area(s) 4
URL:https://networkforyouthsuccess.org/events/exploring-a-stem-identity/
LOCATION:Zoom
END:VEVENT
END:VCALENDAR