BEGIN:VCALENDAR
VERSION:2.0
PRODID:-//New York State Network for Youth Success - ECPv6.15.11//NONSGML v1.0//EN
CALSCALE:GREGORIAN
METHOD:PUBLISH
X-ORIGINAL-URL:https://networkforyouthsuccess.org
X-WR-CALDESC:Events for New York State Network for Youth Success
REFRESH-INTERVAL;VALUE=DURATION:PT1H
X-Robots-Tag:noindex
X-PUBLISHED-TTL:PT1H
BEGIN:VTIMEZONE
TZID:America/New_York
BEGIN:DAYLIGHT
TZOFFSETFROM:-0500
TZOFFSETTO:-0400
TZNAME:EDT
DTSTART:20230312T070000
END:DAYLIGHT
BEGIN:STANDARD
TZOFFSETFROM:-0400
TZOFFSETTO:-0500
TZNAME:EST
DTSTART:20231105T060000
END:STANDARD
BEGIN:DAYLIGHT
TZOFFSETFROM:-0500
TZOFFSETTO:-0400
TZNAME:EDT
DTSTART:20240310T070000
END:DAYLIGHT
BEGIN:STANDARD
TZOFFSETFROM:-0400
TZOFFSETTO:-0500
TZNAME:EST
DTSTART:20241103T060000
END:STANDARD
BEGIN:DAYLIGHT
TZOFFSETFROM:-0500
TZOFFSETTO:-0400
TZNAME:EDT
DTSTART:20250309T070000
END:DAYLIGHT
BEGIN:STANDARD
TZOFFSETFROM:-0400
TZOFFSETTO:-0500
TZNAME:EST
DTSTART:20251102T060000
END:STANDARD
END:VTIMEZONE
BEGIN:VEVENT
DTSTART;TZID=America/New_York:20240209T110000
DTEND;TZID=America/New_York:20240209T123000
DTSTAMP:20260419T090142
CREATED:20240118T151830Z
LAST-MODIFIED:20240118T151830Z
UID:30386-1707476400-1707481800@networkforyouthsuccess.org
SUMMARY:Beyond Borders: Confronting Xenophobia Together
DESCRIPTION:Embark on a transformative journey with Tibisay Hernandez in “Beyond Borders\,” a workshop designed to dismantle stereotypes and build bridges of understanding. Engage in meaningful conversations and actionable strategies to tackle xenophobia head-on. This empowering experience fosters inclusivity\, empathy\, and open dialogue. Through interactive activities\, insightful discussions\, and shared stories\, participants will gain valuable insights into the roots of xenophobia and explore practical ways to promote unity in our diverse world. Let’s come together\, challenge biases\, and embrace the strength that lies in our differences. It’s time to build a world where compassion triumphs over fear.
URL:https://networkforyouthsuccess.org/events/beyond-borders-confronting-xenophobia-together/
LOCATION:Zoom
END:VEVENT
END:VCALENDAR