BEGIN:VCALENDAR
VERSION:2.0
PRODID:-//New York State Network for Youth Success - ECPv6.15.11//NONSGML v1.0//EN
CALSCALE:GREGORIAN
METHOD:PUBLISH
X-WR-CALNAME:New York State Network for Youth Success
X-ORIGINAL-URL:https://networkforyouthsuccess.org
X-WR-CALDESC:Events for New York State Network for Youth Success
REFRESH-INTERVAL;VALUE=DURATION:PT1H
X-Robots-Tag:noindex
X-PUBLISHED-TTL:PT1H
BEGIN:VTIMEZONE
TZID:America/New_York
BEGIN:DAYLIGHT
TZOFFSETFROM:-0500
TZOFFSETTO:-0400
TZNAME:EDT
DTSTART:20230312T070000
END:DAYLIGHT
BEGIN:STANDARD
TZOFFSETFROM:-0400
TZOFFSETTO:-0500
TZNAME:EST
DTSTART:20231105T060000
END:STANDARD
BEGIN:DAYLIGHT
TZOFFSETFROM:-0500
TZOFFSETTO:-0400
TZNAME:EDT
DTSTART:20240310T070000
END:DAYLIGHT
BEGIN:STANDARD
TZOFFSETFROM:-0400
TZOFFSETTO:-0500
TZNAME:EST
DTSTART:20241103T060000
END:STANDARD
BEGIN:DAYLIGHT
TZOFFSETFROM:-0500
TZOFFSETTO:-0400
TZNAME:EDT
DTSTART:20250309T070000
END:DAYLIGHT
BEGIN:STANDARD
TZOFFSETFROM:-0400
TZOFFSETTO:-0500
TZNAME:EST
DTSTART:20251102T060000
END:STANDARD
END:VTIMEZONE
BEGIN:VEVENT
DTSTART;TZID=America/New_York:20240131T183000
DTEND;TZID=America/New_York:20240131T200000
DTSTAMP:20260419T085646
CREATED:20231227T155643Z
LAST-MODIFIED:20231227T155643Z
UID:30229-1706725800-1706731200@networkforyouthsuccess.org
SUMMARY:Facilitating an Inclusive Learning Environment for STEAM
DESCRIPTION:Involving all youth in STEAM activity\, and overcoming any potential barriers to participating\, is a critical component of good youth development work. In this workshop learn practices and approaches to creating inclusion in a typical STEAM activity. This session will allow participant to experience the practice and identify how to bring it back to their programs. This workshop is for participants who work with school-age children in a group setting. Join Timothy Fowler for this highly interactive session\, which will count for OCFS training hours (OCFS 3\, CBK 4).
URL:https://networkforyouthsuccess.org/events/facilitating-an-inclusive-learning-environment-for-steam/
LOCATION:Zoom
END:VEVENT
END:VCALENDAR