BEGIN:VCALENDAR
VERSION:2.0
PRODID:-//New York State Network for Youth Success - ECPv6.15.11//NONSGML v1.0//EN
CALSCALE:GREGORIAN
METHOD:PUBLISH
X-WR-CALNAME:New York State Network for Youth Success
X-ORIGINAL-URL:https://networkforyouthsuccess.org
X-WR-CALDESC:Events for New York State Network for Youth Success
REFRESH-INTERVAL;VALUE=DURATION:PT1H
X-Robots-Tag:noindex
X-PUBLISHED-TTL:PT1H
BEGIN:VTIMEZONE
TZID:America/New_York
BEGIN:DAYLIGHT
TZOFFSETFROM:-0500
TZOFFSETTO:-0400
TZNAME:EDT
DTSTART:20230312T070000
END:DAYLIGHT
BEGIN:STANDARD
TZOFFSETFROM:-0400
TZOFFSETTO:-0500
TZNAME:EST
DTSTART:20231105T060000
END:STANDARD
BEGIN:DAYLIGHT
TZOFFSETFROM:-0500
TZOFFSETTO:-0400
TZNAME:EDT
DTSTART:20240310T070000
END:DAYLIGHT
BEGIN:STANDARD
TZOFFSETFROM:-0400
TZOFFSETTO:-0500
TZNAME:EST
DTSTART:20241103T060000
END:STANDARD
BEGIN:DAYLIGHT
TZOFFSETFROM:-0500
TZOFFSETTO:-0400
TZNAME:EDT
DTSTART:20250309T070000
END:DAYLIGHT
BEGIN:STANDARD
TZOFFSETFROM:-0400
TZOFFSETTO:-0500
TZNAME:EST
DTSTART:20251102T060000
END:STANDARD
END:VTIMEZONE
BEGIN:VEVENT
DTSTART;TZID=America/New_York:20240123T183000
DTEND;TZID=America/New_York:20240123T200000
DTSTAMP:20260419T120213
CREATED:20231227T155432Z
LAST-MODIFIED:20231227T155432Z
UID:30227-1706034600-1706040000@networkforyouthsuccess.org
SUMMARY:Modeling Engineering Practices
DESCRIPTION:Learn how to engage young people in engineering design practices by tackling a design challenge! This workshop will feature activities from a design challenge project. Participants will experience the activity\, and discuss how all young people can try on the identity of an engineer. This session will emphasize the skills of an engineer\, as well as process\, in order to engage young people in ‘trying on’ the role of engineer. Join Timothy Fowler for this highly interactive session. This virtual event will count for OCFS training hours (1.5 hours\, OCFS 3\, CBK 4). \nGoal: To explore how to support youth as they develop an engineering mindset \nObjectives: Participants will discuss what an engineering mindset is and what it looks like in an informal STEM program with youth. Participants will solve a design challenge\, practicing the engineering process
URL:https://networkforyouthsuccess.org/events/modeling-engineering-practices/
LOCATION:Zoom
END:VEVENT
END:VCALENDAR