BEGIN:VCALENDAR
VERSION:2.0
PRODID:-//New York State Network for Youth Success - ECPv6.15.11//NONSGML v1.0//EN
CALSCALE:GREGORIAN
METHOD:PUBLISH
X-WR-CALNAME:New York State Network for Youth Success
X-ORIGINAL-URL:https://networkforyouthsuccess.org
X-WR-CALDESC:Events for New York State Network for Youth Success
REFRESH-INTERVAL;VALUE=DURATION:PT1H
X-Robots-Tag:noindex
X-PUBLISHED-TTL:PT1H
BEGIN:VTIMEZONE
TZID:America/New_York
BEGIN:DAYLIGHT
TZOFFSETFROM:-0500
TZOFFSETTO:-0400
TZNAME:EDT
DTSTART:20220313T070000
END:DAYLIGHT
BEGIN:STANDARD
TZOFFSETFROM:-0400
TZOFFSETTO:-0500
TZNAME:EST
DTSTART:20221106T060000
END:STANDARD
BEGIN:DAYLIGHT
TZOFFSETFROM:-0500
TZOFFSETTO:-0400
TZNAME:EDT
DTSTART:20230312T070000
END:DAYLIGHT
BEGIN:STANDARD
TZOFFSETFROM:-0400
TZOFFSETTO:-0500
TZNAME:EST
DTSTART:20231105T060000
END:STANDARD
BEGIN:DAYLIGHT
TZOFFSETFROM:-0500
TZOFFSETTO:-0400
TZNAME:EDT
DTSTART:20240310T070000
END:DAYLIGHT
BEGIN:STANDARD
TZOFFSETFROM:-0400
TZOFFSETTO:-0500
TZNAME:EST
DTSTART:20241103T060000
END:STANDARD
END:VTIMEZONE
BEGIN:VEVENT
DTSTART;TZID=America/New_York:20230811T100000
DTEND;TZID=America/New_York:20230811T113000
DTSTAMP:20260420T072839
CREATED:20230609T170754Z
LAST-MODIFIED:20230609T170754Z
UID:26403-1691748000-1691753400@networkforyouthsuccess.org
SUMMARY:Bias Blocks: Practical Solutions for Equitable Change
DESCRIPTION:Participants will continue to explore the effects of bias while focusing on solutions for reducing bias at the personal and institutional levels. They will be introduced to evidence-based strategies that interrupt biased thinking\, reflective prompts for sustainable bias mitigation\, and assessment considerations for equitable outcomes. Tools and resource lists will be provided to assist participants in developing action plans for change.
URL:https://networkforyouthsuccess.org/events/bias-blocks-practical-solutions-for-equitable-change-3/
END:VEVENT
END:VCALENDAR