BEGIN:VCALENDAR
VERSION:2.0
PRODID:-//New York State Network for Youth Success - ECPv6.15.11//NONSGML v1.0//EN
CALSCALE:GREGORIAN
METHOD:PUBLISH
X-WR-CALNAME:New York State Network for Youth Success
X-ORIGINAL-URL:https://networkforyouthsuccess.org
X-WR-CALDESC:Events for New York State Network for Youth Success
REFRESH-INTERVAL;VALUE=DURATION:PT1H
X-Robots-Tag:noindex
X-PUBLISHED-TTL:PT1H
BEGIN:VTIMEZONE
TZID:America/New_York
BEGIN:DAYLIGHT
TZOFFSETFROM:-0500
TZOFFSETTO:-0400
TZNAME:EDT
DTSTART:20220313T070000
END:DAYLIGHT
BEGIN:STANDARD
TZOFFSETFROM:-0400
TZOFFSETTO:-0500
TZNAME:EST
DTSTART:20221106T060000
END:STANDARD
BEGIN:DAYLIGHT
TZOFFSETFROM:-0500
TZOFFSETTO:-0400
TZNAME:EDT
DTSTART:20230312T070000
END:DAYLIGHT
BEGIN:STANDARD
TZOFFSETFROM:-0400
TZOFFSETTO:-0500
TZNAME:EST
DTSTART:20231105T060000
END:STANDARD
BEGIN:DAYLIGHT
TZOFFSETFROM:-0500
TZOFFSETTO:-0400
TZNAME:EDT
DTSTART:20240310T070000
END:DAYLIGHT
BEGIN:STANDARD
TZOFFSETFROM:-0400
TZOFFSETTO:-0500
TZNAME:EST
DTSTART:20241103T060000
END:STANDARD
END:VTIMEZONE
BEGIN:VEVENT
DTSTART;TZID=America/New_York:20230809T110000
DTEND;TZID=America/New_York:20230809T120000
DTSTAMP:20260420T072839
CREATED:20230607T204735Z
LAST-MODIFIED:20230607T210749Z
UID:26328-1691578800-1691582400@networkforyouthsuccess.org
SUMMARY:Accessibility in the Workplace
DESCRIPTION:When an organization successfully builds a culture of inclusion\, employees feel comfortable bringing their full selves to work. This interactive session will explore how to build an inclusive environment for employees including creating an accessible hiring process\, staff meetings\, and training. This session will be valuable to current and aspiring leaders. Note: This session will NOT cover ADA accessibility. Prerequisite: Accessibility 101
URL:https://networkforyouthsuccess.org/events/accessibility-in-the-workforce/
CATEGORIES:JEDI Training Series
END:VEVENT
END:VCALENDAR