BEGIN:VCALENDAR
VERSION:2.0
PRODID:-//New York State Network for Youth Success - ECPv6.15.11//NONSGML v1.0//EN
CALSCALE:GREGORIAN
METHOD:PUBLISH
X-ORIGINAL-URL:https://networkforyouthsuccess.org
X-WR-CALDESC:Events for New York State Network for Youth Success
REFRESH-INTERVAL;VALUE=DURATION:PT1H
X-Robots-Tag:noindex
X-PUBLISHED-TTL:PT1H
BEGIN:VTIMEZONE
TZID:America/New_York
BEGIN:DAYLIGHT
TZOFFSETFROM:-0500
TZOFFSETTO:-0400
TZNAME:EDT
DTSTART:20220313T070000
END:DAYLIGHT
BEGIN:STANDARD
TZOFFSETFROM:-0400
TZOFFSETTO:-0500
TZNAME:EST
DTSTART:20221106T060000
END:STANDARD
BEGIN:DAYLIGHT
TZOFFSETFROM:-0500
TZOFFSETTO:-0400
TZNAME:EDT
DTSTART:20230312T070000
END:DAYLIGHT
BEGIN:STANDARD
TZOFFSETFROM:-0400
TZOFFSETTO:-0500
TZNAME:EST
DTSTART:20231105T060000
END:STANDARD
BEGIN:DAYLIGHT
TZOFFSETFROM:-0500
TZOFFSETTO:-0400
TZNAME:EDT
DTSTART:20240310T070000
END:DAYLIGHT
BEGIN:STANDARD
TZOFFSETFROM:-0400
TZOFFSETTO:-0500
TZNAME:EST
DTSTART:20241103T060000
END:STANDARD
END:VTIMEZONE
BEGIN:VEVENT
DTSTART;TZID=America/New_York:20230728T103000
DTEND;TZID=America/New_York:20230728T120000
DTSTAMP:20260420T091409
CREATED:20230607T204436Z
LAST-MODIFIED:20230607T210637Z
UID:26326-1690540200-1690545600@networkforyouthsuccess.org
SUMMARY:Accessibility 101
DESCRIPTION:Accessibility is a buzzword\, but what does it mean when you’re working with youth? This interactive session will provide an introduction to what accessibility is and why it matters in your programs and organizations. Participants will practice skills such as using inclusive language\, combating microaggressions and more. No matter their role in their organization\, participants will leave with strategies for how they can bring accessibility in all of their work. Attending this session is a prerequisite to attending other sessions from this facilitation team.
URL:https://networkforyouthsuccess.org/events/accessibility-101/
CATEGORIES:JEDI Training Series
END:VEVENT
END:VCALENDAR