BEGIN:VCALENDAR
VERSION:2.0
PRODID:-//New York State Network for Youth Success - ECPv6.15.11//NONSGML v1.0//EN
CALSCALE:GREGORIAN
METHOD:PUBLISH
X-ORIGINAL-URL:https://networkforyouthsuccess.org
X-WR-CALDESC:Events for New York State Network for Youth Success
REFRESH-INTERVAL;VALUE=DURATION:PT1H
X-Robots-Tag:noindex
X-PUBLISHED-TTL:PT1H
BEGIN:VTIMEZONE
TZID:America/New_York
BEGIN:DAYLIGHT
TZOFFSETFROM:-0500
TZOFFSETTO:-0400
TZNAME:EDT
DTSTART:20220313T070000
END:DAYLIGHT
BEGIN:STANDARD
TZOFFSETFROM:-0400
TZOFFSETTO:-0500
TZNAME:EST
DTSTART:20221106T060000
END:STANDARD
BEGIN:DAYLIGHT
TZOFFSETFROM:-0500
TZOFFSETTO:-0400
TZNAME:EDT
DTSTART:20230312T070000
END:DAYLIGHT
BEGIN:STANDARD
TZOFFSETFROM:-0400
TZOFFSETTO:-0500
TZNAME:EST
DTSTART:20231105T060000
END:STANDARD
BEGIN:DAYLIGHT
TZOFFSETFROM:-0500
TZOFFSETTO:-0400
TZNAME:EDT
DTSTART:20240310T070000
END:DAYLIGHT
BEGIN:STANDARD
TZOFFSETFROM:-0400
TZOFFSETTO:-0500
TZNAME:EST
DTSTART:20241103T060000
END:STANDARD
END:VTIMEZONE
BEGIN:VEVENT
DTSTART;TZID=America/New_York:20230711T110000
DTEND;TZID=America/New_York:20230711T120000
DTSTAMP:20260420T091407
CREATED:20230316T171629Z
LAST-MODIFIED:20230628T153922Z
UID:24189-1689073200-1689076800@networkforyouthsuccess.org
SUMMARY:Windows & Mirrors: LGBTQIA-Affirming Programs and Curriculum
DESCRIPTION:Adults in youth programs and education settings have a unique opportunity to provide\nprogramming and materials that allow youth to see themselves and their families\nrepresented. When we do this\, we also prepare youth for interacting with the world around\nthem and help them build skills to be better friends and bystanders. This session introduces\nthe “Mirrors & Windows” learning theory (coined by educator Emily Styles in 1988) and\nprovides examples for improvements to curriculum and programming.
URL:https://networkforyouthsuccess.org/events/windows-mirrors-lgbtqia-affirming-programs-and-curriculum-3/
CATEGORIES:JEDI Training Series
END:VEVENT
BEGIN:VEVENT
DTSTART;TZID=America/New_York:20230711T130000
DTEND;TZID=America/New_York:20230711T143000
DTSTAMP:20260420T091407
CREATED:20230609T170329Z
LAST-MODIFIED:20230609T170329Z
UID:26397-1689080400-1689085800@networkforyouthsuccess.org
SUMMARY:Bias: A Human Condition
DESCRIPTION:This highly interactive training opportunity will discuss the neurological basis for implicit bias. Participants will be able to reframe their understanding of bias and learn practical definitions for diversity\, equity\, and inclusion terms. Real-life examples and relevant research will be discussed to assist participants in identifying bias within various every day and educational contexts.
URL:https://networkforyouthsuccess.org/events/bias-a-human-condition-6/
END:VEVENT
END:VCALENDAR