BEGIN:VCALENDAR
VERSION:2.0
PRODID:-//New York State Network for Youth Success - ECPv6.15.11//NONSGML v1.0//EN
CALSCALE:GREGORIAN
METHOD:PUBLISH
X-WR-CALNAME:New York State Network for Youth Success
X-ORIGINAL-URL:https://networkforyouthsuccess.org
X-WR-CALDESC:Events for New York State Network for Youth Success
REFRESH-INTERVAL;VALUE=DURATION:PT1H
X-Robots-Tag:noindex
X-PUBLISHED-TTL:PT1H
BEGIN:VTIMEZONE
TZID:America/New_York
BEGIN:DAYLIGHT
TZOFFSETFROM:-0500
TZOFFSETTO:-0400
TZNAME:EDT
DTSTART:20220313T070000
END:DAYLIGHT
BEGIN:STANDARD
TZOFFSETFROM:-0400
TZOFFSETTO:-0500
TZNAME:EST
DTSTART:20221106T060000
END:STANDARD
BEGIN:DAYLIGHT
TZOFFSETFROM:-0500
TZOFFSETTO:-0400
TZNAME:EDT
DTSTART:20230312T070000
END:DAYLIGHT
BEGIN:STANDARD
TZOFFSETFROM:-0400
TZOFFSETTO:-0500
TZNAME:EST
DTSTART:20231105T060000
END:STANDARD
BEGIN:DAYLIGHT
TZOFFSETFROM:-0500
TZOFFSETTO:-0400
TZNAME:EDT
DTSTART:20240310T070000
END:DAYLIGHT
BEGIN:STANDARD
TZOFFSETFROM:-0400
TZOFFSETTO:-0500
TZNAME:EST
DTSTART:20241103T060000
END:STANDARD
END:VTIMEZONE
BEGIN:VEVENT
DTSTART;TZID=America/New_York:20230201T103000
DTEND;TZID=America/New_York:20230201T120000
DTSTAMP:20260420T194038
CREATED:20220926T160619Z
LAST-MODIFIED:20220926T160619Z
UID:19657-1675247400-1675252800@networkforyouthsuccess.org
SUMMARY:Understanding the Difference and Significance of Trauma Informed Care as Compared to Historical Traumas\, including the Impacts on Cross-Cultural Relationships
DESCRIPTION:Trauma-Informed Care is very helpful to understand how an individual person may be impacted by trauma.  This session expands TIC to entire communities and focuses on how various factors and residual consequences of historical and continuing challenges may create walls or barriers that may impede developing cross-cultural interactions and relationships.
URL:https://networkforyouthsuccess.org/events/understanding-the-difference-and-significance-of-trauma-informed-care-as-compared-to-historical-traumas-including-the-impacts-on-cross-cultural-relationships-2/
CATEGORIES:JEDI Training Series
END:VEVENT
END:VCALENDAR