BEGIN:VCALENDAR
VERSION:2.0
PRODID:-//New York State Network for Youth Success - ECPv6.15.11//NONSGML v1.0//EN
CALSCALE:GREGORIAN
METHOD:PUBLISH
X-WR-CALNAME:New York State Network for Youth Success
X-ORIGINAL-URL:https://networkforyouthsuccess.org
X-WR-CALDESC:Events for New York State Network for Youth Success
REFRESH-INTERVAL;VALUE=DURATION:PT1H
X-Robots-Tag:noindex
X-PUBLISHED-TTL:PT1H
BEGIN:VTIMEZONE
TZID:America/New_York
BEGIN:DAYLIGHT
TZOFFSETFROM:-0500
TZOFFSETTO:-0400
TZNAME:EDT
DTSTART:20220313T070000
END:DAYLIGHT
BEGIN:STANDARD
TZOFFSETFROM:-0400
TZOFFSETTO:-0500
TZNAME:EST
DTSTART:20221106T060000
END:STANDARD
BEGIN:DAYLIGHT
TZOFFSETFROM:-0500
TZOFFSETTO:-0400
TZNAME:EDT
DTSTART:20230312T070000
END:DAYLIGHT
BEGIN:STANDARD
TZOFFSETFROM:-0400
TZOFFSETTO:-0500
TZNAME:EST
DTSTART:20231105T060000
END:STANDARD
BEGIN:DAYLIGHT
TZOFFSETFROM:-0500
TZOFFSETTO:-0400
TZNAME:EDT
DTSTART:20240310T070000
END:DAYLIGHT
BEGIN:STANDARD
TZOFFSETFROM:-0400
TZOFFSETTO:-0500
TZNAME:EST
DTSTART:20241103T060000
END:STANDARD
END:VTIMEZONE
BEGIN:VEVENT
DTSTART;TZID=America/New_York:20230127T110000
DTEND;TZID=America/New_York:20230127T123000
DTSTAMP:20260420T212510
CREATED:20230112T142128Z
LAST-MODIFIED:20230112T142623Z
UID:22506-1674817200-1674822600@networkforyouthsuccess.org
SUMMARY:Embracing Change: Finding Common Ground on Intersectionality About Race\, Gender\, Religion\, Class and Sexual Orientation [PART 2]
DESCRIPTION:In the second session of our series on finding common ground\, participants will discuss intersectionality and the benefits and importance of discussing critical issues that spark controversy regarding race\, gender\, class and sexual orientation. Participants will also reflect on their roles as gatekeepers in the workplace\, and why creating a culture of dignity and respect is so vital for educational spaces. This session will focus on dismantling barriers to participation for students\, and ask attendees to engage in intersectional authenticity as a practice. We will also begin to explore the spectrum of diversity from awareness to advocacy.
URL:https://networkforyouthsuccess.org/events/embracing-change-finding-common-ground-on-intersectionality-about-race-gender-religion-class-and-sexual-orientation-part-2/
CATEGORIES:JEDI Training Series
END:VEVENT
END:VCALENDAR