BEGIN:VCALENDAR
VERSION:2.0
PRODID:-//New York State Network for Youth Success - ECPv6.15.11//NONSGML v1.0//EN
CALSCALE:GREGORIAN
METHOD:PUBLISH
X-WR-CALNAME:New York State Network for Youth Success
X-ORIGINAL-URL:https://networkforyouthsuccess.org
X-WR-CALDESC:Events for New York State Network for Youth Success
REFRESH-INTERVAL;VALUE=DURATION:PT1H
X-Robots-Tag:noindex
X-PUBLISHED-TTL:PT1H
BEGIN:VTIMEZONE
TZID:America/New_York
BEGIN:DAYLIGHT
TZOFFSETFROM:-0500
TZOFFSETTO:-0400
TZNAME:EDT
DTSTART:20220313T070000
END:DAYLIGHT
BEGIN:STANDARD
TZOFFSETFROM:-0400
TZOFFSETTO:-0500
TZNAME:EST
DTSTART:20221106T060000
END:STANDARD
BEGIN:DAYLIGHT
TZOFFSETFROM:-0500
TZOFFSETTO:-0400
TZNAME:EDT
DTSTART:20230312T070000
END:DAYLIGHT
BEGIN:STANDARD
TZOFFSETFROM:-0400
TZOFFSETTO:-0500
TZNAME:EST
DTSTART:20231105T060000
END:STANDARD
BEGIN:DAYLIGHT
TZOFFSETFROM:-0500
TZOFFSETTO:-0400
TZNAME:EDT
DTSTART:20240310T070000
END:DAYLIGHT
BEGIN:STANDARD
TZOFFSETFROM:-0400
TZOFFSETTO:-0500
TZNAME:EST
DTSTART:20241103T060000
END:STANDARD
END:VTIMEZONE
BEGIN:VEVENT
DTSTART;TZID=America/New_York:20230104T183000
DTEND;TZID=America/New_York:20230104T213000
DTSTAMP:20260420T212448
CREATED:20221107T124049Z
LAST-MODIFIED:20221107T124115Z
UID:20610-1672857000-1672867800@networkforyouthsuccess.org
SUMMARY:Health and Safety for SAC Directors
DESCRIPTION:Health and Safety for SAC Directors \nDirectors are responsible for hiring\, training\, and maintaining staff who provide a healthy\nand safe environment for children. This course will help directors look at policies and\nprocedures that reinforce high-quality health and safety practices. Directors will get the\nmost out of this training if they bring a copy of the policies and procedures from their\nprogram. \nJanuary 2023 \nWednesday\, January 4\nThursday\, January 5\nWednesday\, January 11\nThursday\, January 12\nWednesday\, January 18\nThursday\, January 19 \nTime: 6:30pm-9:30pm \nThis is a six day course.  You must attend all sessions. \nInstructor: Diane Shirley \nCost $300.00 \nLocation:  This is a Virtual Event
URL:https://networkforyouthsuccess.org/events/health-and-safety-for-sac-directors-3/
CATEGORIES:Professional Development
END:VEVENT
END:VCALENDAR