BEGIN:VCALENDAR
VERSION:2.0
PRODID:-//New York State Network for Youth Success - ECPv6.15.11//NONSGML v1.0//EN
CALSCALE:GREGORIAN
METHOD:PUBLISH
X-WR-CALNAME:New York State Network for Youth Success
X-ORIGINAL-URL:https://networkforyouthsuccess.org
X-WR-CALDESC:Events for New York State Network for Youth Success
REFRESH-INTERVAL;VALUE=DURATION:PT1H
X-Robots-Tag:noindex
X-PUBLISHED-TTL:PT1H
BEGIN:VTIMEZONE
TZID:America/New_York
BEGIN:DAYLIGHT
TZOFFSETFROM:-0500
TZOFFSETTO:-0400
TZNAME:EDT
DTSTART:20210314T070000
END:DAYLIGHT
BEGIN:STANDARD
TZOFFSETFROM:-0400
TZOFFSETTO:-0500
TZNAME:EST
DTSTART:20211107T060000
END:STANDARD
BEGIN:DAYLIGHT
TZOFFSETFROM:-0500
TZOFFSETTO:-0400
TZNAME:EDT
DTSTART:20220313T070000
END:DAYLIGHT
BEGIN:STANDARD
TZOFFSETFROM:-0400
TZOFFSETTO:-0500
TZNAME:EST
DTSTART:20221106T060000
END:STANDARD
BEGIN:DAYLIGHT
TZOFFSETFROM:-0500
TZOFFSETTO:-0400
TZNAME:EDT
DTSTART:20230312T070000
END:DAYLIGHT
BEGIN:STANDARD
TZOFFSETFROM:-0400
TZOFFSETTO:-0500
TZNAME:EST
DTSTART:20231105T060000
END:STANDARD
END:VTIMEZONE
BEGIN:VEVENT
DTSTART;TZID=America/New_York:20221207T103000
DTEND;TZID=America/New_York:20221207T113000
DTSTAMP:20260420T225755
CREATED:20220705T184102Z
LAST-MODIFIED:20220705T184102Z
UID:17847-1670409000-1670412600@networkforyouthsuccess.org
SUMMARY:Windows & Mirrors: LGBTQIA-Affirming Programs and Curriculum
DESCRIPTION:Adults in childcare and education settings have a unique opportunity to provide programming and materials that allow youth to see themselves and their families represented\, while preparing them for interacting with the world around them and helping them be better friends. This session introduces the “Mirrors & Windows” learning theory (coined by educator Emily Styles in 1988) and provides examples for improvements to curriculum and programming. Prerequisite: LGBTQIA 101.
URL:https://networkforyouthsuccess.org/events/windows-mirrors-lgbtqia-affirming-programs-and-curriculum-2/
CATEGORIES:JEDI Training Series
END:VEVENT
BEGIN:VEVENT
DTSTART;TZID=America/New_York:20221207T120000
DTEND;TZID=America/New_York:20221207T130000
DTSTAMP:20260420T225755
CREATED:20221118T160229Z
LAST-MODIFIED:20230118T002951Z
UID:21030-1670414400-1670418000@networkforyouthsuccess.org
SUMMARY:Grant Writing: Fund Development for Sustaining High Quality Programs
DESCRIPTION:Presented by: \nHolly Dickinson is the Director of Grants and District/Community Programs at the Lockport City School District. In this role she oversees ESSA program compliance; school and district comprehensive improvement and strategic planning; preparation\, submission\, and project direction of all competitive and non-competitive grants; family and community engagement; and the district’s community schools initiative. Holly has been leading program design teams and preparing and implementing federal\, state\, and foundation grants for the past 12 years and has been awarded more the 50 million dollars in grant funds during this time. In addition\, she has conducted grant writing and evaluation workshops at the Grant Professionals Association national conference.\n\nBret Ratner is the Vice President of Grants at Good Shepherd Services (GSS)\, a large NYC-based nonprofit that serves more than 28\,000 children and families annually through over 90 programs. In this role\, he supervises a team of six Grants Managers and Grant Writers that are responsible for securing funding from NYC\, NY State\, and federal government agencies as well as a robust portfolio of over 50 private foundations and corporations. Prior to working at GSS\, he was the Director of Institutional Advancement at the Educational Alliance and has also been a Development Officer at ExpandED Schools. Finally\, Bret has his Master’s in Journalism from Marquette University and completed Columbia University’s Developing Leaders for Nonprofit Professionals program.\n\nModerated by:\n\nJay Roscup has served as an afterschool youth worker\, ELA teacher\, non-profit Executive and school administrator. He operated as the Safe Schools Healthy Students Project Director role at Sodus CSD and the Director of the Community Schools Initiative in Lyons for a competitive NYS grant. In those roles\, he organized building supports\, served on student intervention teams\, and worked in areas ranging from early childhood to juvenile justice and mental health. Currently\, Jay is the Community Schools Director for Wayne County Community Schools where he supports coordinators at four schools on the journey to being Full Service Community Schools and is a Project Director for a Full Service Community Schools grant.
URL:https://networkforyouthsuccess.org/events/grant-writing-fund-development-for-sustaining-high-quality-programs/
CATEGORIES:Sustainability Series
END:VEVENT
END:VCALENDAR