BEGIN:VCALENDAR
VERSION:2.0
PRODID:-//New York State Network for Youth Success - ECPv6.15.11//NONSGML v1.0//EN
CALSCALE:GREGORIAN
METHOD:PUBLISH
X-WR-CALNAME:New York State Network for Youth Success
X-ORIGINAL-URL:https://networkforyouthsuccess.org
X-WR-CALDESC:Events for New York State Network for Youth Success
REFRESH-INTERVAL;VALUE=DURATION:PT1H
X-Robots-Tag:noindex
X-PUBLISHED-TTL:PT1H
BEGIN:VTIMEZONE
TZID:America/New_York
BEGIN:DAYLIGHT
TZOFFSETFROM:-0500
TZOFFSETTO:-0400
TZNAME:EDT
DTSTART:20210314T070000
END:DAYLIGHT
BEGIN:STANDARD
TZOFFSETFROM:-0400
TZOFFSETTO:-0500
TZNAME:EST
DTSTART:20211107T060000
END:STANDARD
BEGIN:DAYLIGHT
TZOFFSETFROM:-0500
TZOFFSETTO:-0400
TZNAME:EDT
DTSTART:20220313T070000
END:DAYLIGHT
BEGIN:STANDARD
TZOFFSETFROM:-0400
TZOFFSETTO:-0500
TZNAME:EST
DTSTART:20221106T060000
END:STANDARD
BEGIN:DAYLIGHT
TZOFFSETFROM:-0500
TZOFFSETTO:-0400
TZNAME:EDT
DTSTART:20230312T070000
END:DAYLIGHT
BEGIN:STANDARD
TZOFFSETFROM:-0400
TZOFFSETTO:-0500
TZNAME:EST
DTSTART:20231105T060000
END:STANDARD
END:VTIMEZONE
BEGIN:VEVENT
DTSTART;TZID=America/New_York:20221024T120000
DTEND;TZID=America/New_York:20221024T130000
DTSTAMP:20260421T023839
CREATED:20220705T182602Z
LAST-MODIFIED:20220705T182807Z
UID:17824-1666612800-1666616400@networkforyouthsuccess.org
SUMMARY:Supporting the Needs of LGBTQIA Children & Teens
DESCRIPTION:Research shows that having just ONE supportive adult can reduce suicidality for LGBTQ youth. This session provides insight into their psycho-social-emotional needs with the aim of assisting staff in creating affirming environments and improving mental health. Plus\, attendees will learn their legal obligations when working with LGBTQIA youth\, especially those with unsupportive homes. Prerequisite: LGBTQIA 101.
URL:https://networkforyouthsuccess.org/events/supporting-the-needs-of-lgbtqia-children-teens-2/
CATEGORIES:JEDI Training Series
END:VEVENT
END:VCALENDAR