BEGIN:VCALENDAR
VERSION:2.0
PRODID:-//New York State Network for Youth Success - ECPv6.15.11//NONSGML v1.0//EN
CALSCALE:GREGORIAN
METHOD:PUBLISH
X-ORIGINAL-URL:https://networkforyouthsuccess.org
X-WR-CALDESC:Events for New York State Network for Youth Success
REFRESH-INTERVAL;VALUE=DURATION:PT1H
X-Robots-Tag:noindex
X-PUBLISHED-TTL:PT1H
BEGIN:VTIMEZONE
TZID:America/New_York
BEGIN:DAYLIGHT
TZOFFSETFROM:-0500
TZOFFSETTO:-0400
TZNAME:EDT
DTSTART:20210314T070000
END:DAYLIGHT
BEGIN:STANDARD
TZOFFSETFROM:-0400
TZOFFSETTO:-0500
TZNAME:EST
DTSTART:20211107T060000
END:STANDARD
BEGIN:DAYLIGHT
TZOFFSETFROM:-0500
TZOFFSETTO:-0400
TZNAME:EDT
DTSTART:20220313T070000
END:DAYLIGHT
BEGIN:STANDARD
TZOFFSETFROM:-0400
TZOFFSETTO:-0500
TZNAME:EST
DTSTART:20221106T060000
END:STANDARD
BEGIN:DAYLIGHT
TZOFFSETFROM:-0500
TZOFFSETTO:-0400
TZNAME:EDT
DTSTART:20230312T070000
END:DAYLIGHT
BEGIN:STANDARD
TZOFFSETFROM:-0400
TZOFFSETTO:-0500
TZNAME:EST
DTSTART:20231105T060000
END:STANDARD
END:VTIMEZONE
BEGIN:VEVENT
DTSTART;TZID=America/New_York:20221013T120000
DTEND;TZID=America/New_York:20221013T133000
DTSTAMP:20260421T024221
CREATED:20220705T181909Z
LAST-MODIFIED:20220705T181924Z
UID:17820-1665662400-1665667800@networkforyouthsuccess.org
SUMMARY:Youth and the Right to Privacy
DESCRIPTION:Is it ok for our kids to keep secrets from us? \n  \nIn this session\, we will explore the tricky balance between young people’s inherent right to privacy and our responsibility as caregivers to keep them safe. How can we protect young people from very real dangers without sheltering them entirely from a world they need to be prepared to navigate? How can we incorporate technology – smartphones\, social media etc. – into a changing conversation about privacy? And most importantly\, how can we challenge ageist norms that strip youth of their agency and right to privacy in the name of safety?
URL:https://networkforyouthsuccess.org/events/youth-and-the-right-to-privacy-2/
CATEGORIES:JEDI Training Series
END:VEVENT
END:VCALENDAR