BEGIN:VCALENDAR
VERSION:2.0
PRODID:-//New York State Network for Youth Success - ECPv6.15.11//NONSGML v1.0//EN
CALSCALE:GREGORIAN
METHOD:PUBLISH
X-WR-CALNAME:New York State Network for Youth Success
X-ORIGINAL-URL:https://networkforyouthsuccess.org
X-WR-CALDESC:Events for New York State Network for Youth Success
REFRESH-INTERVAL;VALUE=DURATION:PT1H
X-Robots-Tag:noindex
X-PUBLISHED-TTL:PT1H
BEGIN:VTIMEZONE
TZID:America/New_York
BEGIN:DAYLIGHT
TZOFFSETFROM:-0500
TZOFFSETTO:-0400
TZNAME:EDT
DTSTART:20210314T070000
END:DAYLIGHT
BEGIN:STANDARD
TZOFFSETFROM:-0400
TZOFFSETTO:-0500
TZNAME:EST
DTSTART:20211107T060000
END:STANDARD
BEGIN:DAYLIGHT
TZOFFSETFROM:-0500
TZOFFSETTO:-0400
TZNAME:EDT
DTSTART:20220313T070000
END:DAYLIGHT
BEGIN:STANDARD
TZOFFSETFROM:-0400
TZOFFSETTO:-0500
TZNAME:EST
DTSTART:20221106T060000
END:STANDARD
BEGIN:DAYLIGHT
TZOFFSETFROM:-0500
TZOFFSETTO:-0400
TZNAME:EDT
DTSTART:20230312T070000
END:DAYLIGHT
BEGIN:STANDARD
TZOFFSETFROM:-0400
TZOFFSETTO:-0500
TZNAME:EST
DTSTART:20231105T060000
END:STANDARD
END:VTIMEZONE
BEGIN:VEVENT
DTSTART;TZID=America/New_York:20220919T180000
DTEND;TZID=America/New_York:20220919T190000
DTSTAMP:20260421T043023
CREATED:20220705T181056Z
LAST-MODIFIED:20220919T171204Z
UID:17810-1663610400-1663614000@networkforyouthsuccess.org
SUMMARY:Systems Update: Enhancing Documents & E-Forms to Better Serve LGBTQIA Youth and Families
DESCRIPTION:Noticing that your electronic and paper forms don’t give all the information your staff need\, or that they don’t work for all of your families? Geared towards directors and other leadership\, this interactive session provides practical examples for adjusting forms and for how to work around 3rd-party systems. Bring your forms to help us work through real examples!  \nAttendance of Names & Pronouns session encouraged.  \nPrerequisite: LGBTQIA 101. \n 
URL:https://networkforyouthsuccess.org/events/systems-update-enhancing-documents-e-forms-to-better-serve-lgbtqia-youth-and-families/
CATEGORIES:JEDI Training Series
END:VEVENT
END:VCALENDAR