BEGIN:VCALENDAR
VERSION:2.0
PRODID:-//New York State Network for Youth Success - ECPv6.15.11//NONSGML v1.0//EN
CALSCALE:GREGORIAN
METHOD:PUBLISH
X-ORIGINAL-URL:https://networkforyouthsuccess.org
X-WR-CALDESC:Events for New York State Network for Youth Success
REFRESH-INTERVAL;VALUE=DURATION:PT1H
X-Robots-Tag:noindex
X-PUBLISHED-TTL:PT1H
BEGIN:VTIMEZONE
TZID:America/New_York
BEGIN:DAYLIGHT
TZOFFSETFROM:-0500
TZOFFSETTO:-0400
TZNAME:EDT
DTSTART:20210314T070000
END:DAYLIGHT
BEGIN:STANDARD
TZOFFSETFROM:-0400
TZOFFSETTO:-0500
TZNAME:EST
DTSTART:20211107T060000
END:STANDARD
BEGIN:DAYLIGHT
TZOFFSETFROM:-0500
TZOFFSETTO:-0400
TZNAME:EDT
DTSTART:20220313T070000
END:DAYLIGHT
BEGIN:STANDARD
TZOFFSETFROM:-0400
TZOFFSETTO:-0500
TZNAME:EST
DTSTART:20221106T060000
END:STANDARD
BEGIN:DAYLIGHT
TZOFFSETFROM:-0500
TZOFFSETTO:-0400
TZNAME:EDT
DTSTART:20230312T070000
END:DAYLIGHT
BEGIN:STANDARD
TZOFFSETFROM:-0400
TZOFFSETTO:-0500
TZNAME:EST
DTSTART:20231105T060000
END:STANDARD
END:VTIMEZONE
BEGIN:VEVENT
DTSTART;TZID=America/New_York:20220907T103000
DTEND;TZID=America/New_York:20220907T113000
DTSTAMP:20260421T043040
CREATED:20220705T180327Z
LAST-MODIFIED:20220705T180327Z
UID:17806-1662546600-1662550200@networkforyouthsuccess.org
SUMMARY:Names & Pronouns: Making Mistakes and Getting it Right
DESCRIPTION:Adjusting to a youth’s new name? Struggling with they/them pronouns? Wondering what to do when the family isn’t on board? This session provides attendees with tips\, tools\, and NYS laws applicable to communicating with and about youth & staff who are trans and/or nonbinary. Prerequisite: LGBTQIA 101
URL:https://networkforyouthsuccess.org/events/names-pronouns-making-mistakes-and-getting-it-right/
CATEGORIES:JEDI Training Series
END:VEVENT
BEGIN:VEVENT
DTSTART;TZID=America/New_York:20220907T190000
DTEND;TZID=America/New_York:20220907T203000
DTSTAMP:20260421T043040
CREATED:20220830T192251Z
LAST-MODIFIED:20220830T192251Z
UID:19092-1662577200-1662582600@networkforyouthsuccess.org
SUMMARY:LGBTQIA 101: UNDERSTANDING GENDER AND ATTRACTION (PREREQUISITE FOR ALL OTHER LGBTQ SESSIONS)
DESCRIPTION:An interactive [re]introduction to terminology and key concepts related to sexual orientation and gender identity expression. This session serves the foundation necessary for exploring the skills\, practices\, policies\, and NYS laws in the upcoming LGBTQIA sessions. Individuals wishing to attend other sessions from the facilitator must first attend this session. \n 
URL:https://networkforyouthsuccess.org/events/lgbtqia-101-understanding-gender-and-attraction-prerequisite-for-all-other-lgbtq-sessions/
END:VEVENT
END:VCALENDAR