BEGIN:VCALENDAR
VERSION:2.0
PRODID:-//New York State Network for Youth Success - ECPv6.15.11//NONSGML v1.0//EN
CALSCALE:GREGORIAN
METHOD:PUBLISH
X-WR-CALNAME:New York State Network for Youth Success
X-ORIGINAL-URL:https://networkforyouthsuccess.org
X-WR-CALDESC:Events for New York State Network for Youth Success
REFRESH-INTERVAL;VALUE=DURATION:PT1H
X-Robots-Tag:noindex
X-PUBLISHED-TTL:PT1H
BEGIN:VTIMEZONE
TZID:America/New_York
BEGIN:DAYLIGHT
TZOFFSETFROM:-0500
TZOFFSETTO:-0400
TZNAME:EDT
DTSTART:20210314T070000
END:DAYLIGHT
BEGIN:STANDARD
TZOFFSETFROM:-0400
TZOFFSETTO:-0500
TZNAME:EST
DTSTART:20211107T060000
END:STANDARD
BEGIN:DAYLIGHT
TZOFFSETFROM:-0500
TZOFFSETTO:-0400
TZNAME:EDT
DTSTART:20220313T070000
END:DAYLIGHT
BEGIN:STANDARD
TZOFFSETFROM:-0400
TZOFFSETTO:-0500
TZNAME:EST
DTSTART:20221106T060000
END:STANDARD
BEGIN:DAYLIGHT
TZOFFSETFROM:-0500
TZOFFSETTO:-0400
TZNAME:EDT
DTSTART:20230312T070000
END:DAYLIGHT
BEGIN:STANDARD
TZOFFSETFROM:-0400
TZOFFSETTO:-0500
TZNAME:EST
DTSTART:20231105T060000
END:STANDARD
END:VTIMEZONE
BEGIN:VEVENT
DTSTART;TZID=America/New_York:20220525T100000
DTEND;TZID=America/New_York:20220525T113000
DTSTAMP:20260421T152232
CREATED:20220510T154040Z
LAST-MODIFIED:20220510T154710Z
UID:15836-1653472800-1653478200@networkforyouthsuccess.org
SUMMARY:Asking Purposeful Questions
DESCRIPTION:Learn how good and timely questions can make fun STEAM experiences effective learning for youth.  Join trainer Natalie Scavone to learn how and when questions can be used by to enhance an experience. This session will engage learners in the practice\, so come ready to interact! \nClick here to register. This workshop is offered at no cost thanks to the Million Girls Moonshot initiative to engage more young people in STEAM learning. \nOCFS 3\, CBK 4
URL:https://networkforyouthsuccess.org/events/asking-purposeful-questions/
CATEGORIES:Professional Development
END:VEVENT
END:VCALENDAR